BEGIN:VCALENDAR
VERSION:2.0
PRODID:-//jEvents 2.0 for Joomla//EN
CALSCALE:GREGORIAN
METHOD:PUBLISH
BEGIN:VTIMEZONE
TZID:Europe/Vienna
END:VTIMEZONE
BEGIN:VEVENT
UID:e7eca4f92e38d55b8359797c1379e525
CATEGORIES:Seminare, Workshops
CREATED:20250901T110900
SUMMARY:Wintercamp - Junge Bläserphilharmonie Niederösterreich - Referent für Saxophon
DESCRIPTION:<p><a href="https://www.mkmnoe.at/wettbewerbe-und-orchester/junge-blaeserph
 ilharmonie-niederoesterreich/termine">https://www.mkmnoe.at/wettbewerbe-und
 -orchester/junge-blaeserphilharmonie-niederoesterreich/termine</a></p><p><b
 r /><br />Wintercamp<br />Do 2. Jänner bis Mo 6. Jänner 2026 I campus Horn<
 br /><br />Das Wintercamp beginnt am 2. Jänner mit dem Mittagessen, beinhal
 tet täglich drei Probeeinheiten am Vormittag, Nachmittag und Abend, mit ein
 em probefreien Abend am 5. Jänner, und endet am 6. Jänner ebenfalls mit dem
  Mittagessen.<br /><br />Neujahrskonzert<br />Sa 10. Jänner 2026 I Jahnturn
 halle St. Pölten<br /><br />Sommercamp<br />So 12. Juli bis Sa 18. Juli 202
 6 I tba<br /><br />Konzert<br />Sa 18. Juli 2026 I tba</p>
CONTACT:https://www.mkmnoe.at/wettbewerbe-und-orchester/junge-blaeserphilharmonie-niederoesterreich/termine
DTSTAMP:20260421T141543
DTSTART;TZID=Europe/Vienna;VALUE=DATE:20260102
DTEND;TZID=Europe/Vienna;VALUE=DATE:20260104
SEQUENCE:0
TRANSP:OPAQUE
END:VEVENT
END:VCALENDAR