BEGIN:VCALENDAR
VERSION:2.0
PRODID:-//jEvents 2.0 for Joomla//EN
CALSCALE:GREGORIAN
METHOD:PUBLISH
BEGIN:VTIMEZONE
TZID:Europe/Vienna
END:VTIMEZONE
BEGIN:VEVENT
UID:a951fda88fb4dd8300eb61c33ec7c29b
CATEGORIES:Seminare, Workshops
CREATED:20250901T110659
SUMMARY:Proben mit der Jungen Bläserphilharmonie Niederösterreich - Referent für Saxophon
DESCRIPTION:https://www.mkmnoe.at/wettbewerbe-und-orchester/junge-blaeserphilharmonie-n
 iederoesterreich/termine (https://www.mkmnoe.at/wettbewerbe-und-orchester/j
 unge-blaeserphilharmonie-niederoesterreich/termine)\n\nRegisterprobentag\n\
 nSa 6. Dezember 2025 I 10.00 Uhr I tba\n\n_________________________________
 ___________________________________________________________\n\nWintercamp\n
 Do 2. Jänner bis Mo 6. Jänner 2026 I campus Horn\n\nDas Wintercamp beginnt 
 am 2. Jänner mit dem Mittagessen, beinhaltet täglich drei Probeeinheiten am
  Vormittag, Nachmittag und Abend, mit einem probefreien Abend am 5. Jänner,
  und endet am 6. Jänner ebenfalls mit dem Mittagessen.\n\nNeujahrskonzert\n
 Sa 10. Jänner 2026 I Jahnturnhalle St. Pölten\n\nSommercamp\nSo 12. Juli bi
 s Sa 18. Juli 2026 I tba\n\nKonzert\nSa 18. Juli 2026 I tba\n
X-ALT-DESC;FMTTYPE=text/html:<p><a href="https://www.mkmnoe.at/wettbewerbe-und-orchester/junge-blaeserph
 ilharmonie-niederoesterreich/termine">https://www.mkmnoe.at/wettbewerbe-und
 -orchester/junge-blaeserphilharmonie-niederoesterreich/termine</a></p><p><b
 r />Registerprobentag</p><p><br />Sa 6. Dezember 2025 I 10.00 Uhr I tba<br 
 /><br />___________________________________________________________________
 _________________________<br /><br />Wintercamp<br />Do 2. Jänner bis Mo 6.
  Jänner 2026 I campus Horn<br /><br />Das Wintercamp beginnt am 2. Jänner m
 it dem Mittagessen, beinhaltet täglich drei Probeeinheiten am Vormittag, Na
 chmittag und Abend, mit einem probefreien Abend am 5. Jänner, und endet am 
 6. Jänner ebenfalls mit dem Mittagessen.<br /><br />Neujahrskonzert<br />Sa
  10. Jänner 2026 I Jahnturnhalle St. Pölten<br /><br />Sommercamp<br />So 1
 2. Juli bis Sa 18. Juli 2026 I tba<br /><br />Konzert<br />Sa 18. Juli 2026
  I tba</p>
CONTACT:https://www.mkmnoe.at/wettbewerbe-und-orchester/junge-blaeserphilharmonie-niederoesterreich/termine
DTSTAMP:20260421T190018
DTSTART;TZID=Europe/Vienna;VALUE=DATE:20251206
DTEND;TZID=Europe/Vienna;VALUE=DATE:20251207
SEQUENCE:0
TRANSP:OPAQUE
END:VEVENT
END:VCALENDAR