BEGIN:VCALENDAR
VERSION:2.0
PRODID:-//jEvents 2.0 for Joomla//EN
CALSCALE:GREGORIAN
METHOD:PUBLISH
BEGIN:VTIMEZONE
TZID:Europe/Vienna
END:VTIMEZONE
BEGIN:VEVENT
UID:a9891455b55b365908978266fbae33e3
CATEGORIES:Seminare, Workshops
CREATED:20250220T084644
SUMMARY:Mitglied der Jury zu "Prima la Musica" in Wien
DESCRIPTION:Prima la Musica als ein Teil von "Musik de Jugend"<br />Mitglied der Jury i
 n Wien
DTSTAMP:20260422T073903
DTSTART;TZID=Europe/Vienna;VALUE=DATE:20250222
DTEND;TZID=Europe/Vienna;VALUE=DATE:20250223
SEQUENCE:0
TRANSP:OPAQUE
END:VEVENT
END:VCALENDAR