BEGIN:VCALENDAR
VERSION:2.0
PRODID:-//jEvents 2.0 for Joomla//EN
CALSCALE:GREGORIAN
METHOD:PUBLISH
BEGIN:VTIMEZONE
TZID:Europe/Vienna
END:VTIMEZONE
BEGIN:VEVENT
UID:d00af353802eef2e3d2f5f5059ccbe0e
CATEGORIES:Seminare, Workshops
CREATED:20241015T071353
SUMMARY:Mitglied der Jury zu "Prima la Musica - Saxophon" in Tirol
DESCRIPTION:Musik der Jugend 2025<br />Prima la Musica - Wettbewerb<br /><br />Jurymitg
 lied in der Jury für Saxophon
DTSTAMP:20260422T020741
DTSTART;TZID=Europe/Vienna;VALUE=DATE:20250312
DTEND;TZID=Europe/Vienna;VALUE=DATE:20250314
SEQUENCE:0
TRANSP:OPAQUE
END:VEVENT
END:VCALENDAR