BEGIN:VCALENDAR
VERSION:2.0
PRODID:-//jEvents 2.0 for Joomla//EN
CALSCALE:GREGORIAN
METHOD:PUBLISH
BEGIN:VTIMEZONE
TZID:Europe/Vienna
END:VTIMEZONE
BEGIN:VEVENT
UID:608d6d0ceb71ad2f767aa30203c36cd1
CATEGORIES:Seminare, Workshops
CREATED:20240724T091645
SUMMARY:Jurymitglied beim Bundeswettbewerb "Musik in kleinen Gruppen" in Salzburg
DESCRIPTION:Jurymitglied beim Bundeswettbewerb zu&nbsp; "Musik in kleinen Gruppen"&nbsp
 ;<br /><br />Salzburg, am Samstag, 26. Oktober 2024<br /><br /><a href="htt
 ps://www.blasmusik.at/jugend/wettbewerbe/musik-in-kleinen-gruppen/ausschrei
 bung-bundeswettbewerb-musik-in-kleinen-gruppen-2024/">https://www.blasmusik
 .at/jugend/wettbewerbe/musik-in-kleinen-gruppen/ausschreibung-bundeswettbew
 erb-musik-in-kleinen-gruppen-2024/</a><br />
DTSTAMP:20260425T030348
DTSTART;TZID=Europe/Vienna;VALUE=DATE:20241026
DTEND;TZID=Europe/Vienna;VALUE=DATE:20241028
SEQUENCE:0
TRANSP:OPAQUE
END:VEVENT
END:VCALENDAR