BEGIN:VCALENDAR
VERSION:2.0
PRODID:-//jEvents 2.0 for Joomla//EN
CALSCALE:GREGORIAN
METHOD:PUBLISH
BEGIN:VTIMEZONE
TZID:Europe/Vienna
END:VTIMEZONE
BEGIN:VEVENT
UID:6d660dfb4b22eaa0032c1cdb6c875d73
CATEGORIES:Seminare, Workshops
CREATED:20220408T092725
SUMMARY:Tag der Offenen Tür - Musikschule der Region Wagram
DESCRIPTION:https://www.msrw.at/2-news/389-tag-der-offenen-tuer-und-pop-jazz-band-konze
 rt.html (https://www.msrw.at/2-news/389-tag-der-offenen-tuer-und-pop-jazz-b
 and-konzert.html) \n\nInstrmente ausprobieren, \nsich bei den Pädagoginnen 
 informieren, Anmeldungen für das Schuljahr 2022/23
X-ALT-DESC;FMTTYPE=text/html:<a href="https://www.msrw.at/2-news/389-tag-der-offenen-tuer-und-pop-jazz-b
 and-konzert.html">https://www.msrw.at/2-news/389-tag-der-offenen-tuer-und-p
 op-jazz-band-konzert.html</a>&nbsp;<br /><br />Instrmente ausprobieren, <br
  />sich bei den Pädagoginnen informieren, Anmeldungen für das Schuljahr 202
 2/23
DTSTAMP:20260421T085837
DTSTART;TZID=Europe/Vienna:20220408T080000
DTEND;TZID=Europe/Vienna:20220408T170000
SEQUENCE:0
TRANSP:OPAQUE
END:VEVENT
END:VCALENDAR