BEGIN:VCALENDAR
VERSION:2.0
PRODID:-//jEvents 2.0 for Joomla//EN
CALSCALE:GREGORIAN
METHOD:PUBLISH
BEGIN:VTIMEZONE
TZID:Europe/Vienna
END:VTIMEZONE
BEGIN:VEVENT
UID:594dda42480ae0cd4a4c7e351283f6fd
CATEGORIES:Seminare, Workshops
CREATED:20220408T092507
SUMMARY:Referent für Saxophon bei der Jungen Bläserphilharmonie Niederösterreich
DESCRIPTION:
DTSTAMP:20260421T141524
DTSTART;TZID=Europe/Vienna;VALUE=DATE:20220802
DTEND;TZID=Europe/Vienna;VALUE=DATE:20220804
SEQUENCE:0
TRANSP:OPAQUE
END:VEVENT
END:VCALENDAR