BEGIN:VCALENDAR
VERSION:2.0
PRODID:-//jEvents 2.0 for Joomla//EN
CALSCALE:GREGORIAN
METHOD:PUBLISH
BEGIN:VTIMEZONE
TZID:Europe/Vienna
END:VTIMEZONE
BEGIN:VEVENT
UID:6516eeccf30ffe752209f62654cd0a3a
CATEGORIES:Seminare, Workshops
CREATED:20220224T091230
SUMMARY:Juror für Holzbläser Kammermusik - 
DESCRIPTION:Juror für Holzbläser Kammermusik in Wien\nPrima la Musica (Musik der Jugend
 )
X-ALT-DESC;FMTTYPE=text/html:Juror für Holzbläser Kammermusik in Wien<br />Prima la Musica (Musik der Ju
 gend)
DTSTAMP:20260421T185807
DTSTART;TZID=Europe/Vienna;VALUE=DATE:20220226
DTEND;TZID=Europe/Vienna;VALUE=DATE:20220227
SEQUENCE:0
TRANSP:OPAQUE
END:VEVENT
END:VCALENDAR