BEGIN:VCALENDAR
VERSION:2.0
PRODID:-//jEvents 2.0 for Joomla//EN
CALSCALE:GREGORIAN
METHOD:PUBLISH
BEGIN:VTIMEZONE
TZID:Europe/Vienna
END:VTIMEZONE
BEGIN:VEVENT
UID:8eba8f347f24c7afa958a91571027c48
CATEGORIES:Seminare, Workshops
CREATED:20220218T093055
SUMMARY:Juror Landes - Bläser Wettbewerb in Tirol
DESCRIPTION:
DTSTAMP:20260421T085841
DTSTART;TZID=Europe/Vienna;VALUE=DATE:20220402
DTEND;TZID=Europe/Vienna;VALUE=DATE:20220403
SEQUENCE:0
TRANSP:OPAQUE
END:VEVENT
END:VCALENDAR