BEGIN:VCALENDAR
VERSION:2.0
PRODID:-//jEvents 2.0 for Joomla//EN
CALSCALE:GREGORIAN
METHOD:PUBLISH
BEGIN:VTIMEZONE
TZID:Europe/Vienna
BEGIN:STANDARD
DTSTART:20191027T020000
RDATE:20200329T030000
TZOFFSETFROM:+0200
TZOFFSETTO:+0100
TZNAME:Europe/Vienna CET
END:STANDARD
BEGIN:STANDARD
DTSTART:20201025T020000
RDATE:20210328T030000
TZOFFSETFROM:+0200
TZOFFSETTO:+0100
TZNAME:Europe/Vienna CET
END:STANDARD
BEGIN:DAYLIGHT
DTSTART:20191017T100000
RDATE:20191027T020000
TZOFFSETFROM:+0100
TZOFFSETTO:+0200
TZNAME:Europe/Vienna CEST
END:DAYLIGHT
BEGIN:DAYLIGHT
DTSTART:20200329T030000
RDATE:20201025T020000
TZOFFSETFROM:+0100
TZOFFSETTO:+0200
TZNAME:Europe/Vienna CEST
END:DAYLIGHT
END:VTIMEZONE
BEGIN:VEVENT
UID:a507f15d71cef2e9456f292266543961
CATEGORIES:Seminare, Workshops
CREATED:20200329T055249
SUMMARY:Seminar für Saxophon des Wiener Blasmusikverbandes
DESCRIPTION:<p>Neuer Termin:<br />Sa, 17. Oktober um 10 Uhr<br />(anstatt April 2020):<
 br /><br />Seminar / Workshop für Saxophon&nbsp;<br />organisiert vom Wiene
 r Blasmusikverband<br /><br /><br />Anmeldungen bei <a href="mailto:klinger
 .h@aon.at"><span id="cloak2572c645b152ddbad84731e611937553">Diese E-Mail-Ad
 resse ist vor Spambots geschützt! Zur Anzeige muss JavaScript eingeschaltet
  sein!</span><script type='text/javascript'>
				document.getElementById('c
 loak2572c645b152ddbad84731e611937553').innerHTML = '';
				var prefix = '&#
 109;a' + 'i&#108;' + '&#116;o';
				var path = 'hr' + 'ef' + '=';
				var a
 ddy2572c645b152ddbad84731e611937553 = 'kl&#105;ng&#101;r.h' + '&#64;';
				
 addy2572c645b152ddbad84731e611937553 = addy2572c645b152ddbad84731e611937553
  + '&#97;&#111;n' + '&#46;' + '&#97;t';
				var addy_text2572c645b152ddbad8
 4731e611937553 = 'kl&#105;ng&#101;r.h' + '&#64;' + '&#97;&#111;n' + '&#46;'
  + '&#97;t';document.getElementById('cloak2572c645b152ddbad84731e611937553'
 ).innerHTML += '<a ' + path + '\'' + prefix + ':' + addy2572c645b152ddbad84
 731e611937553 + '\'>'+addy_text2572c645b152ddbad84731e611937553+'<\/a>';
		
 </script><br /><br /></a>Hütteldorfer Straße 7-17<br />1150 Wien</p><p>Inha
 lte:<br />Ansatz<br />Literatur<br />Material: Blätter, Mundstücke<br /><br
  />verschiedenen Saxophonarten:<br />Sopran- bis Bass-Saxophon<br /><br />E
 nsemblespiel:<br />Trio, Quartett und Quintett <br />bei genügend Anmeldung
 en bis hin zu größeren Ensemble(s)<br />bei mindestens 12 Teilnehmern einst
 udieren von Werken für Saxophonorchester</p>
DTSTAMP:20260421T153658
DTSTART;TZID=Europe/Vienna:20201017T100000
SEQUENCE:0
TRANSP:OPAQUE
END:VEVENT
END:VCALENDAR