BEGIN:VCALENDAR
VERSION:2.0
PRODID:-//jEvents 2.0 for Joomla//EN
CALSCALE:GREGORIAN
METHOD:PUBLISH
BEGIN:VTIMEZONE
TZID:Europe/Vienna
BEGIN:STANDARD
DTSTART:20191027T020000
RDATE:20200329T030000
TZOFFSETFROM:+0200
TZOFFSETTO:+0100
TZNAME:Europe/Vienna CET
END:STANDARD
BEGIN:STANDARD
DTSTART:20201025T020000
RDATE:20210328T030000
TZOFFSETFROM:+0200
TZOFFSETTO:+0100
TZNAME:Europe/Vienna CET
END:STANDARD
BEGIN:DAYLIGHT
DTSTART:20190810T000000
RDATE:20191027T020000
TZOFFSETFROM:+0100
TZOFFSETTO:+0200
TZNAME:Europe/Vienna CEST
END:DAYLIGHT
BEGIN:DAYLIGHT
DTSTART:20200329T030000
RDATE:20201025T020000
TZOFFSETFROM:+0100
TZOFFSETTO:+0200
TZNAME:Europe/Vienna CEST
END:DAYLIGHT
END:VTIMEZONE
BEGIN:VEVENT
UID:40d3a8c379e31a5654b5104251e06a52
CATEGORIES:Seminare, Workshops
CREATED:20200125T162947
SUMMARY:Sommerseminar für Saxophon: Schloss Zeillern
DESCRIPTION:Sommerseminar des Niederösterreichischen Blasmusikverbandes\nSeminarwoche f
 ür Saxophon\n\nAbschlussprüfungen (Leistungsabzeichen) im Rahmen der Semina
 rwoche
X-ALT-DESC;FMTTYPE=text/html:Sommerseminar des Niederösterreichischen Blasmusikverbandes<br />Seminarwoc
 he für Saxophon<br /><br />Abschlussprüfungen (Leistungsabzeichen) im Rahme
 n der Seminarwoche
DTSTAMP:20260421T121414
DTSTART;TZID=Europe/Vienna;VALUE=DATE:20200810
DTEND;TZID=Europe/Vienna;VALUE=DATE:20200815
SEQUENCE:0
TRANSP:OPAQUE
END:VEVENT
END:VCALENDAR