BEGIN:VCALENDAR
VERSION:2.0
PRODID:-//jEvents 2.0 for Joomla//EN
CALSCALE:GREGORIAN
METHOD:PUBLISH
BEGIN:VTIMEZONE
TZID:Europe/Vienna
BEGIN:STANDARD
DTSTART:20191027T020000
RDATE:20200329T030000
TZOFFSETFROM:+0200
TZOFFSETTO:+0100
TZNAME:Europe/Vienna CET
END:STANDARD
BEGIN:STANDARD
DTSTART:20201025T020000
RDATE:20210328T030000
TZOFFSETFROM:+0200
TZOFFSETTO:+0100
TZNAME:Europe/Vienna CET
END:STANDARD
BEGIN:DAYLIGHT
DTSTART:20190726T000000
RDATE:20191027T020000
TZOFFSETFROM:+0100
TZOFFSETTO:+0200
TZNAME:Europe/Vienna CEST
END:DAYLIGHT
BEGIN:DAYLIGHT
DTSTART:20200329T030000
RDATE:20201025T020000
TZOFFSETFROM:+0100
TZOFFSETTO:+0200
TZNAME:Europe/Vienna CEST
END:DAYLIGHT
END:VTIMEZONE
BEGIN:VEVENT
UID:32e1d3ab92e80592816cc492321c298a
CATEGORIES:Seminare, Workshops
CREATED:20190906T093546
SUMMARY:Dozent für Saxophon bei Balatonsax 2020, Ungarn
LOCATION:Balatonalmadi; Szent Erzebet Liget
DESCRIPTION:Balatonsax findet auch HEUER STATT!<br /><br />Balatonsax 2020<br />Sonntag
 , 26. Juli bis Samstag, 2. August 2020<br />Balatonmadi, Balatonfüred, Unga
 rn<br /><br />Masterclasses<br />Workshops<br />Kammermusik<br />Konzerte<b
 r /><br /><a href="http://www.balatonsax.com/"></a><a href="http://www.bala
 tonsax.com/">http://www.balatonsax.com/</a>
CONTACT:www.balatonsax.com
DTSTAMP:20260421T104316
DTSTART;TZID=Europe/Vienna;VALUE=DATE:20200726
DTEND;TZID=Europe/Vienna;VALUE=DATE:20200803
SEQUENCE:0
TRANSP:OPAQUE
END:VEVENT
END:VCALENDAR