BEGIN:VCALENDAR
VERSION:2.0
PRODID:-//jEvents 2.0 for Joomla//EN
CALSCALE:GREGORIAN
METHOD:PUBLISH
BEGIN:VTIMEZONE
TZID:Europe/Vienna
BEGIN:STANDARD
DTSTART:20181028T020000
RDATE:20190331T030000
TZOFFSETFROM:+0200
TZOFFSETTO:+0100
TZNAME:Europe/Vienna CET
END:STANDARD
BEGIN:STANDARD
DTSTART:20191027T020000
RDATE:20200329T030000
TZOFFSETFROM:+0200
TZOFFSETTO:+0100
TZNAME:Europe/Vienna CET
END:STANDARD
BEGIN:STANDARD
DTSTART:20201025T020000
RDATE:20210328T030000
TZOFFSETFROM:+0200
TZOFFSETTO:+0100
TZNAME:Europe/Vienna CET
END:STANDARD
BEGIN:DAYLIGHT
DTSTART:20180727T000000
RDATE:20181028T020000
TZOFFSETFROM:+0100
TZOFFSETTO:+0200
TZNAME:Europe/Vienna CEST
END:DAYLIGHT
BEGIN:DAYLIGHT
DTSTART:20190331T030000
RDATE:20191027T020000
TZOFFSETFROM:+0100
TZOFFSETTO:+0200
TZNAME:Europe/Vienna CEST
END:DAYLIGHT
BEGIN:DAYLIGHT
DTSTART:20200329T030000
RDATE:20201025T020000
TZOFFSETFROM:+0100
TZOFFSETTO:+0200
TZNAME:Europe/Vienna CEST
END:DAYLIGHT
END:VTIMEZONE
BEGIN:VEVENT
UID:e927324d991c822d482f7ce034b0032c
CATEGORIES:Seminare, Workshops
CREATED:20190504T092551
SUMMARY:Dozent bei BalatonSAX 2019, Ungarn
LOCATION:Lake Balaton (Plattensee) \, Ungarn
DESCRIPTION:Internationaler Somerkurs für Klarinette und Saxophon\nBalatonSAX 2019\n\nT
 he BalatonSAX summer music academy costs ​​​​​​700 euros, which includes in
 dividual classes, chamber music classes, live concert performance, workshop
 s with accomodation at Lajos Ordass Evangelic Center*** for 8 nights, 3 dai
 ly meals and complementary spare time activities. All you have to do is to 
 click on the link below, fill the form and send the bank transfer verificat
 ion to Diese E-Mail-Adresse ist vor Spambots geschützt! Zur Anzeige muss Ja
 vaScript eingeschaltet sein!
				document.getElementById('cloakb299b289e656
 fd703e4b85469c1fcf95').innerHTML = '';
				var prefix = '&#109;a' + 'i&#108
 ;' + '&#116;o';
				var path = 'hr' + 'ef' + '=';
				var addyb299b289e656f
 d703e4b85469c1fcf95 = '&#105;nf&#111;' + '&#64;';
				addyb299b289e656fd703
 e4b85469c1fcf95 = addyb299b289e656fd703e4b85469c1fcf95 + 'b&#97;l&#97;t&#11
 1;ns&#97;x' + '&#46;' + 'c&#111;m';
				var addy_textb299b289e656fd703e4b85
 469c1fcf95 = '&#105;nf&#111;' + '&#64;' + 'b&#97;l&#97;t&#111;ns&#97;x' + '
 &#46;' + 'c&#111;m';document.getElementById('cloakb299b289e656fd703e4b85469
 c1fcf95').innerHTML += '<a ' + path + '\'' + prefix + ':' + addyb299b289e65
 6fd703e4b85469c1fcf95 + '\' style="background-color: inherit; font-family: 
 inherit; font-size: 1rem;">'+addy_textb299b289e656fd703e4b85469c1fcf95+'';

 		 \nTHE PROGRAM July 28 - arrivals, hiking, concert of the professors\nJul
 y 29 - individual classes, chamber music classes, rehearsals\nJuly 30 - ind
 ividual classes, chamber music classes, rehearsals, goulash party\nJuly 31 
 - individual classes, chamber music classes, rehearsals\nAugust 1 - individ
 ual classes, chamber music classes, rehearsals, boat trip\nAugust 2 - indiv
 idual classes, chamber music classes, rehearsals, workshop and instrument e
 xhibition\nAugust 3 - individual classes, chamber music classes, rehearsals
 , audition simulation\nAugust 4 - rehearsal, student’s closing concert\nAug
 ust 5 - farewell day\n\n
X-ALT-DESC;FMTTYPE=text/html:Internationaler Somerkurs für Klarinette und Saxophon<br />BalatonSAX 2019<
 br /><br /><div>The BalatonSAX summer music academy costs ​​​​​​<strong>700
  euros</strong>, which includes individual classes, chamber music classes, 
 live concert performance, workshops with accomodation at Lajos Ordass Evang
 elic Center***&nbsp;for 8 nights, 3 daily meals and complementary spare&nbs
 p;time activities.</div><div>&nbsp;</div><div>All you have to do is to clic
 k on the link below, fill the form and&nbsp;send&nbsp;<span style="backgrou
 nd-color: inherit; color: inherit; font-family: inherit; font-size: 1rem;">
 the bank transfer verification to </span><span id="cloakb299b289e656fd703e4
 b85469c1fcf95">Diese E-Mail-Adresse ist vor Spambots geschützt! Zur Anzeige
  muss JavaScript eingeschaltet sein!</span><script type='text/javascript'>

 				document.getElementById('cloakb299b289e656fd703e4b85469c1fcf95').innerH
 TML = '';
				var prefix = '&#109;a' + 'i&#108;' + '&#116;o';
				var path 
 = 'hr' + 'ef' + '=';
				var addyb299b289e656fd703e4b85469c1fcf95 = '&#105;
 nf&#111;' + '&#64;';
				addyb299b289e656fd703e4b85469c1fcf95 = addyb299b28
 9e656fd703e4b85469c1fcf95 + 'b&#97;l&#97;t&#111;ns&#97;x' + '&#46;' + 'c&#1
 11;m';
				var addy_textb299b289e656fd703e4b85469c1fcf95 = '&#105;nf&#111;'
  + '&#64;' + 'b&#97;l&#97;t&#111;ns&#97;x' + '&#46;' + 'c&#111;m';document.
 getElementById('cloakb299b289e656fd703e4b85469c1fcf95').innerHTML += '<a ' 
 + path + '\'' + prefix + ':' + addyb299b289e656fd703e4b85469c1fcf95 + '\' s
 tyle="background-color: inherit; font-family: inherit; font-size: 1rem;">'+
 addy_textb299b289e656fd703e4b85469c1fcf95+'<\/a>';
		</script></div><div><d
 iv>&nbsp;</div></div><div><strong></strong><br /><strong><span class="theme
 -text-color-4-1">THE PROGRAM</span></strong> <strong>July 28</strong> -&nbs
 p;arrivals, hiking, concert of the professors<br /><strong>July 29</strong>
  - individual classes, chamber music classes,&nbsp;rehearsals<br /><strong>
 July 30</strong> -&nbsp;individual classes, chamber music classes,&nbsp;reh
 earsals,&nbsp;goulash party<br /><strong>July 31</strong> -&nbsp;individual
  classes, chamber music classes,&nbsp;rehearsals<br /><strong>August 1</str
 ong> -&nbsp;individual classes, chamber music classes,&nbsp;rehearsals, boa
 t trip<br /><strong>August 2 </strong>-&nbsp;individual classes, chamber mu
 sic classes,&nbsp;rehearsals, workshop and instrument exhibition<br /><stro
 ng>August 3</strong> -&nbsp;individual classes, chamber music classes,&nbsp
 ;rehearsals, audition simulation<br /><strong>August 4</strong> -&nbsp;rehe
 arsal, student’s closing concert<br /><strong>August 5</strong> - farewell 
 day<br /><br /></div>
CONTACT:http://balatonsax.com/ (http://balatonsax.com/)
DTSTAMP:20260421T141515
DTSTART;TZID=Europe/Vienna;VALUE=DATE:20190728
DTEND;TZID=Europe/Vienna;VALUE=DATE:20190805
SEQUENCE:0
TRANSP:OPAQUE
END:VEVENT
END:VCALENDAR