BEGIN:VCALENDAR
VERSION:2.0
PRODID:-//jEvents 2.0 for Joomla//EN
CALSCALE:GREGORIAN
METHOD:PUBLISH
BEGIN:VTIMEZONE
TZID:Europe/Vienna
BEGIN:STANDARD
DTSTART:20181028T020000
RDATE:20190331T030000
TZOFFSETFROM:+0200
TZOFFSETTO:+0100
TZNAME:Europe/Vienna CET
END:STANDARD
BEGIN:STANDARD
DTSTART:20191027T020000
RDATE:20200329T030000
TZOFFSETFROM:+0200
TZOFFSETTO:+0100
TZNAME:Europe/Vienna CET
END:STANDARD
BEGIN:STANDARD
DTSTART:20201025T020000
RDATE:20210328T030000
TZOFFSETFROM:+0200
TZOFFSETTO:+0100
TZNAME:Europe/Vienna CET
END:STANDARD
BEGIN:DAYLIGHT
DTSTART:20180328T010000
RDATE:20181028T020000
TZOFFSETFROM:+0100
TZOFFSETTO:+0200
TZNAME:Europe/Vienna CEST
END:DAYLIGHT
BEGIN:DAYLIGHT
DTSTART:20190331T030000
RDATE:20191027T020000
TZOFFSETFROM:+0100
TZOFFSETTO:+0200
TZNAME:Europe/Vienna CEST
END:DAYLIGHT
BEGIN:DAYLIGHT
DTSTART:20200329T030000
RDATE:20201025T020000
TZOFFSETFROM:+0100
TZOFFSETTO:+0200
TZNAME:Europe/Vienna CEST
END:DAYLIGHT
END:VTIMEZONE
BEGIN:VEVENT
UID:4571222d3f581ea50def56127a3e8ec4
CATEGORIES:Seminare, Workshops
CREATED:20181203T225339
SUMMARY:Dozent beim Europäischen Musikforum in Breslau, Polen
LOCATION:Breslau\, Polen
DESCRIPTION:Dozent für Saxophon in Breslau, Polen\nhttp://musicforum.pl/en/artists/ (ht
 tp://musicforum.pl/en/artists/)\n\nwww.musicforum.p (http://www.musicforum.
 pl)www.musicforum.pl (http://www.musicforum.pl) (http://www.musicforum.pl)\
 n \n
X-ALT-DESC;FMTTYPE=text/html:<p>Dozent für Saxophon in Breslau, Polen<br /><a href="http://musicforum.pl
 /en/artists/">http://musicforum.pl/en/artists/</a><br /><br /><a href="http
 ://www.musicforum.pl">www.musicforum.p</a><a href="http://www.musicforum.pl
 ">www.musicforum.pl</a><a href="http://www.musicforum.pl"></a></p><p>&nbsp;
 </p>
CONTACT:http://musicforum.pl/en/artists/ (http://musicforum.pl/en/artists/)
DTSTAMP:20260421T085831
DTSTART;TZID=Europe/Vienna;VALUE=DATE:20190329
DTEND;TZID=Europe/Vienna;VALUE=DATE:20190331
SEQUENCE:0
TRANSP:OPAQUE
END:VEVENT
END:VCALENDAR