BEGIN:VCALENDAR
VERSION:2.0
PRODID:-//jEvents 2.0 for Joomla//EN
CALSCALE:GREGORIAN
METHOD:PUBLISH
BEGIN:VTIMEZONE
TZID:Europe/Vienna
BEGIN:STANDARD
DTSTART:20151211T000000
RDATE:20160327T030000
TZOFFSETFROM:+0200
TZOFFSETTO:+0100
TZNAME:Europe/Vienna CET
END:STANDARD
BEGIN:STANDARD
DTSTART:20161030T020000
RDATE:20170326T030000
TZOFFSETFROM:+0200
TZOFFSETTO:+0100
TZNAME:Europe/Vienna CET
END:STANDARD
BEGIN:STANDARD
DTSTART:20171029T020000
RDATE:20180325T030000
TZOFFSETFROM:+0200
TZOFFSETTO:+0100
TZNAME:Europe/Vienna CET
END:STANDARD
BEGIN:STANDARD
DTSTART:20181028T020000
RDATE:20190331T030000
TZOFFSETFROM:+0200
TZOFFSETTO:+0100
TZNAME:Europe/Vienna CET
END:STANDARD
BEGIN:STANDARD
DTSTART:20191027T020000
RDATE:20200329T030000
TZOFFSETFROM:+0200
TZOFFSETTO:+0100
TZNAME:Europe/Vienna CET
END:STANDARD
BEGIN:STANDARD
DTSTART:20201025T020000
RDATE:20210328T030000
TZOFFSETFROM:+0200
TZOFFSETTO:+0100
TZNAME:Europe/Vienna CET
END:STANDARD
BEGIN:DAYLIGHT
DTSTART:20160327T030000
RDATE:20161030T020000
TZOFFSETFROM:+0100
TZOFFSETTO:+0200
TZNAME:Europe/Vienna CEST
END:DAYLIGHT
BEGIN:DAYLIGHT
DTSTART:20170326T030000
RDATE:20171029T020000
TZOFFSETFROM:+0100
TZOFFSETTO:+0200
TZNAME:Europe/Vienna CEST
END:DAYLIGHT
BEGIN:DAYLIGHT
DTSTART:20180325T030000
RDATE:20181028T020000
TZOFFSETFROM:+0100
TZOFFSETTO:+0200
TZNAME:Europe/Vienna CEST
END:DAYLIGHT
BEGIN:DAYLIGHT
DTSTART:20190331T030000
RDATE:20191027T020000
TZOFFSETFROM:+0100
TZOFFSETTO:+0200
TZNAME:Europe/Vienna CEST
END:DAYLIGHT
BEGIN:DAYLIGHT
DTSTART:20200329T030000
RDATE:20201025T020000
TZOFFSETFROM:+0100
TZOFFSETTO:+0200
TZNAME:Europe/Vienna CEST
END:DAYLIGHT
END:VTIMEZONE
BEGIN:VEVENT
UID:8ecfd67ae9fd1f15f3f749f9566a11dd
CATEGORIES:Termine
CREATED:20160322T115417
SUMMARY:4saxess mit Klavier
DESCRIPTION:Konzert in Bisamberg / Niederösterreich\n\nGlinka - Ruslan und Ludmilla Ouv
 erture, \nMozart - Die Zauberflöte, \nLeonard Bernstein - West Side Story \
 nGeorges Bizet - Carmen Fantasie\n\nPeter und Daniela Rohrsdorfer \nEberhar
 d Reiter \nMarkus Holzer \n\nKlaus Wagner, Klavier\n
X-ALT-DESC;FMTTYPE=text/html:<p>Konzert in Bisamberg / Niederösterreich<br /><br />Glinka - Ruslan und L
 udmilla Ouverture, <br />Mozart - Die Zauberflöte, <br />Leonard Bernstein 
 - West Side Story <br />Georges Bizet - Carmen Fantasie<br /><br />Peter un
 d Daniela Rohrsdorfer <br />Eberhard Reiter <br />Markus Holzer <br /><br /
 >Klaus Wagner, Klavier</p>
DTSTAMP:20260421T173701
DTSTART;TZID=Europe/Vienna;VALUE=DATE:20161211
DTEND;TZID=Europe/Vienna;VALUE=DATE:20161212
SEQUENCE:0
TRANSP:OPAQUE
END:VEVENT
END:VCALENDAR