BEGIN:VCALENDAR
VERSION:2.0
PRODID:-//jEvents 2.0 for Joomla//EN
CALSCALE:GREGORIAN
METHOD:PUBLISH
BEGIN:VTIMEZONE
TZID:Europe/Vienna
BEGIN:STANDARD
DTSTART:20151025T020000
RDATE:20160327T030000
TZOFFSETFROM:+0200
TZOFFSETTO:+0100
TZNAME:Europe/Vienna CET
END:STANDARD
BEGIN:STANDARD
DTSTART:20161030T020000
RDATE:20170326T030000
TZOFFSETFROM:+0200
TZOFFSETTO:+0100
TZNAME:Europe/Vienna CET
END:STANDARD
BEGIN:STANDARD
DTSTART:20171029T020000
RDATE:20180325T030000
TZOFFSETFROM:+0200
TZOFFSETTO:+0100
TZNAME:Europe/Vienna CET
END:STANDARD
BEGIN:STANDARD
DTSTART:20181028T020000
RDATE:20190331T030000
TZOFFSETFROM:+0200
TZOFFSETTO:+0100
TZNAME:Europe/Vienna CET
END:STANDARD
BEGIN:STANDARD
DTSTART:20191027T020000
RDATE:20200329T030000
TZOFFSETFROM:+0200
TZOFFSETTO:+0100
TZNAME:Europe/Vienna CET
END:STANDARD
BEGIN:STANDARD
DTSTART:20201025T020000
RDATE:20210328T030000
TZOFFSETFROM:+0200
TZOFFSETTO:+0100
TZNAME:Europe/Vienna CET
END:STANDARD
BEGIN:DAYLIGHT
DTSTART:20150828T000000
RDATE:20151025T020000
TZOFFSETFROM:+0100
TZOFFSETTO:+0200
TZNAME:Europe/Vienna CEST
END:DAYLIGHT
BEGIN:DAYLIGHT
DTSTART:20160327T030000
RDATE:20161030T020000
TZOFFSETFROM:+0100
TZOFFSETTO:+0200
TZNAME:Europe/Vienna CEST
END:DAYLIGHT
BEGIN:DAYLIGHT
DTSTART:20170326T030000
RDATE:20171029T020000
TZOFFSETFROM:+0100
TZOFFSETTO:+0200
TZNAME:Europe/Vienna CEST
END:DAYLIGHT
BEGIN:DAYLIGHT
DTSTART:20180325T030000
RDATE:20181028T020000
TZOFFSETFROM:+0100
TZOFFSETTO:+0200
TZNAME:Europe/Vienna CEST
END:DAYLIGHT
BEGIN:DAYLIGHT
DTSTART:20190331T030000
RDATE:20191027T020000
TZOFFSETFROM:+0100
TZOFFSETTO:+0200
TZNAME:Europe/Vienna CEST
END:DAYLIGHT
BEGIN:DAYLIGHT
DTSTART:20200329T030000
RDATE:20201025T020000
TZOFFSETFROM:+0100
TZOFFSETTO:+0200
TZNAME:Europe/Vienna CEST
END:DAYLIGHT
END:VTIMEZONE
BEGIN:VEVENT
UID:e547829d20ebd83d3d4fc2ff751ad15d
CATEGORIES:Termine
CREATED:20160322T113822
SUMMARY:Saxophon und Klavier
DESCRIPTION:Johann Ignaz Pleyel Zentrum Ruppersthal\n\nSaxophon und Klavier\nWerke von 
 Johann I. Pleyel, J. S. Bach, M. Ravel, P. Iturralde und J.B.Singelee\n\nSt
 ephanie Timoschek, Klavier\nMarkus Holzer, Saxophon\nAls Gast: Barbara Stra
 ck-Hanisch, Universität für Musik in Wien\n
X-ALT-DESC;FMTTYPE=text/html:<p>Johann Ignaz Pleyel Zentrum Ruppersthal<br /><br />Saxophon und Klavier<
 br />Werke von Johann I. Pleyel, J. S. Bach, M. Ravel, P. Iturralde und J.B
 .Singelee<br /><br />Stephanie Timoschek, Klavier<br />Markus Holzer, Saxop
 hon</p><p>Als Gast: Barbara Strack-Hanisch, Universität für Musik in Wien</
 p>
DTSTAMP:20260421T224316
DTSTART;TZID=Europe/Vienna;VALUE=DATE:20160828
DTEND;TZID=Europe/Vienna;VALUE=DATE:20160829
SEQUENCE:0
TRANSP:OPAQUE
END:VEVENT
END:VCALENDAR