BEGIN:VCALENDAR
VERSION:2.0
PRODID:-//jEvents 2.0 for Joomla//EN
CALSCALE:GREGORIAN
METHOD:PUBLISH
BEGIN:VTIMEZONE
TZID:Europe/Vienna
END:VTIMEZONE
BEGIN:VEVENT
UID:25021123cfc646cc6acf8113ed323062
CATEGORIES:Termine
CREATED:20240408T153402
SUMMARY:Umrahmung in St. Pölten - Eintritt nur mit Einladung 
DESCRIPTION:Umrahmung in St. Pölten\nLandhaus\nEintritt nur mit Einladung 
X-ALT-DESC;FMTTYPE=text/html:Umrahmung in St. Pölten<br />Landhaus<br />Eintritt nur mit Einladung&nbsp;
DTSTAMP:20260420T233718
DTSTART;TZID=Europe/Vienna:20240419T163000
SEQUENCE:0
TRANSP:OPAQUE
END:VEVENT
END:VCALENDAR