BEGIN:VCALENDAR
VERSION:2.0
PRODID:-//jEvents 2.0 for Joomla//EN
CALSCALE:GREGORIAN
METHOD:PUBLISH
BEGIN:VTIMEZONE
TZID:Europe/Vienna
END:VTIMEZONE
BEGIN:VEVENT
UID:ff0ead7f46f3c72e330e1cb7e9c4796b
CATEGORIES:Termine
CREATED:20240315T150419
SUMMARY:"Toy Story" mit dem Qatar Philharmonic Orchestra, Doha / Qatar
DESCRIPTION:\nSaxophonpart im Rahmen von "Toy Story" mit dem Qatar Philharmonic Orchest
 ra.\nSopran- und Tenorsaxophon\n\nAuftritt in Doha / Quatar\n\n\nhttps://ww
 w.iloveqatar.net/events/entertainment/toy-story-film-concert-qncc-events-do
 ha-april-2024\n\n (https://www.iloveqatar.net/events/entertainment/toy-stor
 y-film-concert-qncc-events-doha-april-2024)
X-ALT-DESC;FMTTYPE=text/html:<br />Saxophonpart im Rahmen von "Toy Story" mit dem&nbsp;Qatar Philharmoni
 c Orchestra.<br />Sopran- und Tenorsaxophon<br /><br />Auftritt in Doha / Q
 uatar<a href="https://www.iloveqatar.net/events/entertainment/toy-story-fil
 m-concert-qncc-events-doha-april-2024"><br /><br /><br />https://www.iloveq
 atar.net/events/entertainment/toy-story-film-concert-qncc-events-doha-april
 -2024<br /><br /></a>
DTSTAMP:20260420T233636
DTSTART;TZID=Europe/Vienna:20240413T180000
SEQUENCE:0
TRANSP:OPAQUE
END:VEVENT
END:VCALENDAR