BEGIN:VCALENDAR
VERSION:2.0
PRODID:-//jEvents 2.0 for Joomla//EN
CALSCALE:GREGORIAN
METHOD:PUBLISH
BEGIN:VTIMEZONE
TZID:Europe/Vienna
END:VTIMEZONE
BEGIN:VEVENT
UID:1c8404253a926d6854e3a2192670939e
CATEGORIES:Termine
CREATED:20240118T114100
SUMMARY:4saxess Konzert
DESCRIPTION:4saxess plus Chor
DTSTAMP:20260420T180336
DTSTART;TZID=Europe/Vienna;VALUE=DATE:20240511
DTEND;TZID=Europe/Vienna;VALUE=DATE:20240512
SEQUENCE:0
TRANSP:OPAQUE
END:VEVENT
END:VCALENDAR