BEGIN:VCALENDAR
VERSION:2.0
PRODID:-//jEvents 2.0 for Joomla//EN
CALSCALE:GREGORIAN
METHOD:PUBLISH
BEGIN:VTIMEZONE
TZID:Europe/Vienna
BEGIN:STANDARD
DTSTART:20201205T000000
RDATE:20210328T030000
TZOFFSETFROM:+0200
TZOFFSETTO:+0100
TZNAME:Europe/Vienna CET
END:STANDARD
END:VTIMEZONE
BEGIN:VEVENT
UID:7b5558917282087c8fce78316c4998dd
CATEGORIES:Termine
CREATED:20211023T152047
SUMMARY:Abgesagt - Auftritt im Rahmen des Grafenegger Advents
DESCRIPTION:Auftritte im Rahmen des Grafenegger Advents\n\nSax Arte Saxophonquartett\n\
 nAlexandra Pichler\nBianca Repas\nViola Jank\nund\nMarkus Holzer
X-ALT-DESC;FMTTYPE=text/html:Auftritte im Rahmen des Grafenegger Advents<br /><br />Sax Arte Saxophonqua
 rtett<br /><br />Alexandra Pichler<br />Bianca Repas<br />Viola Jank<br />u
 nd<br />Markus Holzer
DTSTAMP:20260421T102212
DTSTART;TZID=Europe/Vienna;VALUE=DATE:20211206
DTEND;TZID=Europe/Vienna;VALUE=DATE:20211207
SEQUENCE:0
TRANSP:OPAQUE
END:VEVENT
END:VCALENDAR