BEGIN:VCALENDAR
VERSION:2.0
PRODID:-//jEvents 2.0 for Joomla//EN
CALSCALE:GREGORIAN
METHOD:PUBLISH
BEGIN:VTIMEZONE
TZID:Europe/Vienna
BEGIN:STANDARD
DTSTART:20141026T020000
RDATE:20150329T030000
TZOFFSETFROM:+0200
TZOFFSETTO:+0100
TZNAME:Europe/Vienna CET
END:STANDARD
BEGIN:STANDARD
DTSTART:20151025T020000
RDATE:20160327T030000
TZOFFSETFROM:+0200
TZOFFSETTO:+0100
TZNAME:Europe/Vienna CET
END:STANDARD
BEGIN:STANDARD
DTSTART:20161030T020000
RDATE:20170326T030000
TZOFFSETFROM:+0200
TZOFFSETTO:+0100
TZNAME:Europe/Vienna CET
END:STANDARD
BEGIN:STANDARD
DTSTART:20171029T020000
RDATE:20180325T030000
TZOFFSETFROM:+0200
TZOFFSETTO:+0100
TZNAME:Europe/Vienna CET
END:STANDARD
BEGIN:STANDARD
DTSTART:20181028T020000
RDATE:20190331T030000
TZOFFSETFROM:+0200
TZOFFSETTO:+0100
TZNAME:Europe/Vienna CET
END:STANDARD
BEGIN:STANDARD
DTSTART:20191027T020000
RDATE:20200329T030000
TZOFFSETFROM:+0200
TZOFFSETTO:+0100
TZNAME:Europe/Vienna CET
END:STANDARD
BEGIN:STANDARD
DTSTART:20201025T020000
RDATE:20210328T030000
TZOFFSETFROM:+0200
TZOFFSETTO:+0100
TZNAME:Europe/Vienna CET
END:STANDARD
BEGIN:DAYLIGHT
DTSTART:20140724T173000
RDATE:20141026T020000
TZOFFSETFROM:+0100
TZOFFSETTO:+0200
TZNAME:Europe/Vienna CEST
END:DAYLIGHT
BEGIN:DAYLIGHT
DTSTART:20150329T030000
RDATE:20151025T020000
TZOFFSETFROM:+0100
TZOFFSETTO:+0200
TZNAME:Europe/Vienna CEST
END:DAYLIGHT
BEGIN:DAYLIGHT
DTSTART:20160327T030000
RDATE:20161030T020000
TZOFFSETFROM:+0100
TZOFFSETTO:+0200
TZNAME:Europe/Vienna CEST
END:DAYLIGHT
BEGIN:DAYLIGHT
DTSTART:20170326T030000
RDATE:20171029T020000
TZOFFSETFROM:+0100
TZOFFSETTO:+0200
TZNAME:Europe/Vienna CEST
END:DAYLIGHT
BEGIN:DAYLIGHT
DTSTART:20180325T030000
RDATE:20181028T020000
TZOFFSETFROM:+0100
TZOFFSETTO:+0200
TZNAME:Europe/Vienna CEST
END:DAYLIGHT
BEGIN:DAYLIGHT
DTSTART:20190331T030000
RDATE:20191027T020000
TZOFFSETFROM:+0100
TZOFFSETTO:+0200
TZNAME:Europe/Vienna CEST
END:DAYLIGHT
BEGIN:DAYLIGHT
DTSTART:20200329T030000
RDATE:20201025T020000
TZOFFSETFROM:+0100
TZOFFSETTO:+0200
TZNAME:Europe/Vienna CEST
END:DAYLIGHT
END:VTIMEZONE
BEGIN:VEVENT
UID:9554fb12e144daffb84db7a65429c23b
CATEGORIES:Termine
CREATED:20140306T133046
SUMMARY:4saxess Prélude Konzert in Grafenegg
LOCATION:Schloss Grafenegg\, Niederösterreich - Alte Reitschule
DESCRIPTION:Schlosshof in Grafenegg\n\nThe Great American Songbook\n\nWerke von Gershwi
 n, Bernstein und J. Kander\n\nhttps://www.grafenegg.com/de/programm-tickets
 /117-the-great-american-songbook\n\n4saxess Saxophonquartett:\n\nPeter und 
 Daniela Rohrsdorfer\n\nEberhard Reiter\n\nMarkus Holzer
X-ALT-DESC;FMTTYPE=text/html:Schlosshof in Grafenegg<br /><br />The Great American Songbook<br /><br />W
 erke von Gershwin, Bernstein und J. Kander<br /><br /><a href="https://www.
 grafenegg.com/de/programm-tickets/117-the-great-american-songbook" mce_href
 ="https://www.grafenegg.com/de/programm-tickets/117-the-great-american-song
 book" external="1">https://www.grafenegg.com/de/programm-tickets/117-the-gr
 eat-american-songbook</a><br /><br />4saxess Saxophonquartett:<br /><br />P
 eter und Daniela Rohrsdorfer<br /><br />Eberhard Reiter<br /><br />Markus H
 olzer
DTSTAMP:20260422T055415
DTSTART;TZID=Europe/Vienna:20150725T173000
SEQUENCE:0
TRANSP:OPAQUE
END:VEVENT
END:VCALENDAR