BEGIN:VCALENDAR
VERSION:2.0
PRODID:-//jEvents 2.0 for Joomla//EN
CALSCALE:GREGORIAN
METHOD:PUBLISH
BEGIN:VTIMEZONE
TZID:Europe/Vienna
BEGIN:STANDARD
DTSTART:20200325T200000
RDATE:20200329T030000
TZOFFSETFROM:+0200
TZOFFSETTO:+0100
TZNAME:Europe/Vienna CET
END:STANDARD
BEGIN:STANDARD
DTSTART:20201025T020000
RDATE:20210328T030000
TZOFFSETFROM:+0200
TZOFFSETTO:+0100
TZNAME:Europe/Vienna CET
END:STANDARD
BEGIN:DAYLIGHT
DTSTART:20200329T030000
RDATE:20201025T020000
TZOFFSETFROM:+0100
TZOFFSETTO:+0200
TZNAME:Europe/Vienna CEST
END:DAYLIGHT
END:VTIMEZONE
BEGIN:VEVENT
UID:f0de3c1b46c83e8b00cf4a479354b7b8
CATEGORIES:Termine
CREATED:20201125T114952
SUMMARY:4saxess - Saxophon im Wandel der Zeit
DESCRIPTION:<p>Alte Schmiede in Wien<br />Schönlaterngasse, 1. Bezirk<br /><br />4saxes
 s Saxophonquartett<br />Peter Rohrsdorfer, Sopransaxophon<br />Daniele Rohr
 sdorfer, Altsaxophon<br />Eberhard Reiter, Tenorsaxophon<br />Markus Holzer
 , Baritonsaxophon<br /><br /><br />Werke von Franz Cibulka, Helmut Rogl, Er
 ich Urbanner (zum Geburtstag des Komponisten) und Philippe Geiss</p>
DTSTAMP:20260424T102458
DTSTART;TZID=Europe/Vienna:20210326T200000
SEQUENCE:0
TRANSP:OPAQUE
END:VEVENT
END:VCALENDAR