BEGIN:VCALENDAR
VERSION:2.0
PRODID:-//jEvents 2.0 for Joomla//EN
CALSCALE:GREGORIAN
METHOD:PUBLISH
BEGIN:VTIMEZONE
TZID:Europe/Vienna
BEGIN:STANDARD
DTSTART:20141026T020000
RDATE:20150329T030000
TZOFFSETFROM:+0200
TZOFFSETTO:+0100
TZNAME:Europe/Vienna CET
END:STANDARD
BEGIN:STANDARD
DTSTART:20151025T020000
RDATE:20160327T030000
TZOFFSETFROM:+0200
TZOFFSETTO:+0100
TZNAME:Europe/Vienna CET
END:STANDARD
BEGIN:STANDARD
DTSTART:20161030T020000
RDATE:20170326T030000
TZOFFSETFROM:+0200
TZOFFSETTO:+0100
TZNAME:Europe/Vienna CET
END:STANDARD
BEGIN:STANDARD
DTSTART:20171029T020000
RDATE:20180325T030000
TZOFFSETFROM:+0200
TZOFFSETTO:+0100
TZNAME:Europe/Vienna CET
END:STANDARD
BEGIN:STANDARD
DTSTART:20181028T020000
RDATE:20190331T030000
TZOFFSETFROM:+0200
TZOFFSETTO:+0100
TZNAME:Europe/Vienna CET
END:STANDARD
BEGIN:STANDARD
DTSTART:20191027T020000
RDATE:20200329T030000
TZOFFSETFROM:+0200
TZOFFSETTO:+0100
TZNAME:Europe/Vienna CET
END:STANDARD
BEGIN:STANDARD
DTSTART:20201025T020000
RDATE:20210328T030000
TZOFFSETFROM:+0200
TZOFFSETTO:+0100
TZNAME:Europe/Vienna CET
END:STANDARD
BEGIN:DAYLIGHT
DTSTART:20140506T190000
RDATE:20141026T020000
TZOFFSETFROM:+0100
TZOFFSETTO:+0200
TZNAME:Europe/Vienna CEST
END:DAYLIGHT
BEGIN:DAYLIGHT
DTSTART:20150329T030000
RDATE:20151025T020000
TZOFFSETFROM:+0100
TZOFFSETTO:+0200
TZNAME:Europe/Vienna CEST
END:DAYLIGHT
BEGIN:DAYLIGHT
DTSTART:20160327T030000
RDATE:20161030T020000
TZOFFSETFROM:+0100
TZOFFSETTO:+0200
TZNAME:Europe/Vienna CEST
END:DAYLIGHT
BEGIN:DAYLIGHT
DTSTART:20170326T030000
RDATE:20171029T020000
TZOFFSETFROM:+0100
TZOFFSETTO:+0200
TZNAME:Europe/Vienna CEST
END:DAYLIGHT
BEGIN:DAYLIGHT
DTSTART:20180325T030000
RDATE:20181028T020000
TZOFFSETFROM:+0100
TZOFFSETTO:+0200
TZNAME:Europe/Vienna CEST
END:DAYLIGHT
BEGIN:DAYLIGHT
DTSTART:20190331T030000
RDATE:20191027T020000
TZOFFSETFROM:+0100
TZOFFSETTO:+0200
TZNAME:Europe/Vienna CEST
END:DAYLIGHT
BEGIN:DAYLIGHT
DTSTART:20200329T030000
RDATE:20201025T020000
TZOFFSETFROM:+0100
TZOFFSETTO:+0200
TZNAME:Europe/Vienna CEST
END:DAYLIGHT
END:VTIMEZONE
BEGIN:VEVENT
UID:10837e2281688b35ad204874e42f270e
CATEGORIES:Termine
CREATED:20140306T132645
SUMMARY:4saxess Klangfluss Ensemble 2014/15
LOCATION:Jeunesse Zweigstelle St. Johann im Pongau / Salzburg
DESCRIPTION:Werke von J.S. Bach, Singelee, Gershwin, Piazzolla, Raffaseder, Prischl und
  RoglEin Konzert in Kooperation mit der Jeunesse Österreich und dem Kangflu
 ss Oberösterreich
X-ALT-DESC;FMTTYPE=text/html:<br style="color: #656565; font-family: Abel, Arial, 'Arial Unicode MS', He
 lvetica, sans-serif; line-height: normal;" /><br style="color: #656565; fon
 t-family: Abel, Arial, 'Arial Unicode MS', Helvetica, sans-serif; line-heig
 ht: normal;" /><span style="color: #656565; font-family: Abel, Arial, 'Aria
 l Unicode MS', Helvetica, sans-serif; line-height: normal;">Werke von J.S. 
 Bach, Singelee, Gershwin, Piazzolla, Raffaseder, Prischl und Rogl</span><br
  style="color: #656565; font-family: Abel, Arial, 'Arial Unicode MS', Helve
 tica, sans-serif; line-height: normal;" /><br style="color: #656565; font-f
 amily: Abel, Arial, 'Arial Unicode MS', Helvetica, sans-serif; line-height:
  normal;" /><span style="line-height: 1.3em; color: #656565; font-family: A
 bel, Arial, 'Arial Unicode MS', Helvetica, sans-serif;">Ein Konzert in Koop
 eration mit der Jeunesse Österreich und dem Kangfluss Oberösterreich</span>
X-EXTRAINFO:4saxess werden aufgrund der Auswahl zum "Klangfluss Ensemble 2014" eine Rei
 he von Konzerten in \nKooperation mit der Jeunesse und dem Klangfluss Oberö
 sterreich geben.\nZeitgenössische Komponisten (Essl, Raffaseder, Rogl) werd
 en Klassikern (Bach, Singelee) gegenübergestellt.\nDen Auftakt bildet der A
 uftritt im Vereinshaus Horn.»4 Saxess« steht nicht nur für vier exzellent u
 nd virtuos gespielte Saxophone, der Name der jungen und überaus erfolgreich
 en oberösterreichischen Formation spielt auch lautmalerisch mit dem englisc
 hen Wort »Success«: Denn der Erfolg des vor 200 Jahren vom Belgier Antoine 
 »Adolphe« Sax erfundenen Instrumentes gründet vor allem auf der großen Flex
 ibilität in der Tongebung und erstreckt sich auf unterschiedlichste Stilric
 htungen. Ganz in diesem Sinne spannt 4 Saxess in seinem Erfolgsprogramm den
  musikalischen Bogen von Bachs »Italienischem Konzert« bis zu Gershwins »Rh
 apsody in Blue«, Tangos von Astor Piazzolla und aktueller Musik (ober-)öste
 rreichischer Komponisten – und wurde dafür zum »KlangFluss-Ensemble 2014« g
 ekürt.
DTSTAMP:20260424T084907
DTSTART;TZID=Europe/Vienna:20150507T190000
SEQUENCE:0
TRANSP:OPAQUE
END:VEVENT
END:VCALENDAR