BEGIN:VCALENDAR
VERSION:2.0
PRODID:-//jEvents 2.0 for Joomla//EN
CALSCALE:GREGORIAN
METHOD:PUBLISH
BEGIN:VTIMEZONE
TZID:Europe/Vienna
BEGIN:STANDARD
DTSTART:20191027T020000
RDATE:20200329T030000
TZOFFSETFROM:+0200
TZOFFSETTO:+0100
TZNAME:Europe/Vienna CET
END:STANDARD
BEGIN:STANDARD
DTSTART:20201025T020000
RDATE:20210328T030000
TZOFFSETFROM:+0200
TZOFFSETTO:+0100
TZNAME:Europe/Vienna CET
END:STANDARD
BEGIN:DAYLIGHT
DTSTART:20190731T000000
RDATE:20191027T020000
TZOFFSETFROM:+0100
TZOFFSETTO:+0200
TZNAME:Europe/Vienna CEST
END:DAYLIGHT
BEGIN:DAYLIGHT
DTSTART:20200329T030000
RDATE:20201025T020000
TZOFFSETFROM:+0100
TZOFFSETTO:+0200
TZNAME:Europe/Vienna CEST
END:DAYLIGHT
END:VTIMEZONE
BEGIN:VEVENT
UID:4d911876a7009bf84dd685be0c7dec83
CATEGORIES:Termine
CREATED:20200718T104718
SUMMARY:Closing Concert Balatonsax 2020
DESCRIPTION:Works which are rehearsed with the students of Balatonsax 2020\n\nConcert o
 t the shore of Lake Balaton\nExact Place will be announced!
X-ALT-DESC;FMTTYPE=text/html:Works which are rehearsed with the students of Balatonsax 2020<br /><br />C
 oncert ot the shore of Lake Balaton<br />Exact Place will be announced!
CONTACT:www.balatonsax.com
DTSTAMP:20260424T102417
DTSTART;TZID=Europe/Vienna;VALUE=DATE:20200731
DTEND;TZID=Europe/Vienna;VALUE=DATE:20200801
SEQUENCE:0
TRANSP:OPAQUE
END:VEVENT
END:VCALENDAR