BEGIN:VCALENDAR
VERSION:2.0
PRODID:-//jEvents 2.0 for Joomla//EN
CALSCALE:GREGORIAN
METHOD:PUBLISH
BEGIN:VTIMEZONE
TZID:Europe/Vienna
BEGIN:STANDARD
DTSTART:20201025T020000
RDATE:20210328T030000
TZOFFSETFROM:+0200
TZOFFSETTO:+0100
TZNAME:Europe/Vienna CET
END:STANDARD
BEGIN:DAYLIGHT
DTSTART:20200508T110000
RDATE:20201025T020000
TZOFFSETFROM:+0100
TZOFFSETTO:+0200
TZNAME:Europe/Vienna CEST
END:DAYLIGHT
END:VTIMEZONE
BEGIN:VEVENT
UID:e3c6aafc820dc606e7db2138b4274c2c
CATEGORIES:Termine
CREATED:20200525T071339
SUMMARY:Abgesagt: Saxophon und Klavier - Konzert zum Muttertag 2021
LOCATION:Pleyel Museum Ruppersthal\, Niederösterreich
DESCRIPTION:<p>Muttertagskonzert im Pleyel Zentrum Niederösterreich<br /><br />Werke vo
 n Ignaz Pleyel und Johann Sebastian Bach<br /><br />Markus Holzer, Sopran- 
 und Altsaxophon<br />Stephanie Timoscheck am Original Ignaz Pleyel Hammerfl
 ügel&nbsp;<br /><br /><a href="https://www.pleyel.at">www.pleyel.at<br /></
 a><a href="https://pleyel.at/seite10_detail.php?spr=de&amp;PHPSESSID=8f56e6
 37b5fbe0aa3e92705223c8dc04&amp;artnr=929">https://pleyel.at/seite10_detail.
 php?spr=de&amp;PHPSESSID=8f56e637b5fbe0aa3e92705223c8dc04&amp;artnr=929</a>
 <a href="https://www.pleyel.at"><br /></a></p><p>&nbsp;</p><p>&nbsp;</p>
CONTACT:www.pleyel.at
DTSTAMP:20260420T012938
DTSTART;TZID=Europe/Vienna:20210509T110000
SEQUENCE:0
TRANSP:OPAQUE
END:VEVENT
END:VCALENDAR