BEGIN:VCALENDAR
VERSION:2.0
PRODID:-//jEvents 2.0 for Joomla//EN
CALSCALE:GREGORIAN
METHOD:PUBLISH
BEGIN:VTIMEZONE
TZID:Europe/Vienna
BEGIN:STANDARD
DTSTART:20131027T020000
RDATE:20140330T030000
TZOFFSETFROM:+0200
TZOFFSETTO:+0100
TZNAME:Europe/Vienna CET
END:STANDARD
BEGIN:STANDARD
DTSTART:20141026T020000
RDATE:20150329T030000
TZOFFSETFROM:+0200
TZOFFSETTO:+0100
TZNAME:Europe/Vienna CET
END:STANDARD
BEGIN:STANDARD
DTSTART:20151025T020000
RDATE:20160327T030000
TZOFFSETFROM:+0200
TZOFFSETTO:+0100
TZNAME:Europe/Vienna CET
END:STANDARD
BEGIN:STANDARD
DTSTART:20161030T020000
RDATE:20170326T030000
TZOFFSETFROM:+0200
TZOFFSETTO:+0100
TZNAME:Europe/Vienna CET
END:STANDARD
BEGIN:STANDARD
DTSTART:20171029T020000
RDATE:20180325T030000
TZOFFSETFROM:+0200
TZOFFSETTO:+0100
TZNAME:Europe/Vienna CET
END:STANDARD
BEGIN:STANDARD
DTSTART:20181028T020000
RDATE:20190331T030000
TZOFFSETFROM:+0200
TZOFFSETTO:+0100
TZNAME:Europe/Vienna CET
END:STANDARD
BEGIN:STANDARD
DTSTART:20191027T020000
RDATE:20200329T030000
TZOFFSETFROM:+0200
TZOFFSETTO:+0100
TZNAME:Europe/Vienna CET
END:STANDARD
BEGIN:STANDARD
DTSTART:20201025T020000
RDATE:20210328T030000
TZOFFSETFROM:+0200
TZOFFSETTO:+0100
TZNAME:Europe/Vienna CET
END:STANDARD
BEGIN:DAYLIGHT
DTSTART:20130703T200000
RDATE:20131027T020000
TZOFFSETFROM:+0100
TZOFFSETTO:+0200
TZNAME:Europe/Vienna CEST
END:DAYLIGHT
BEGIN:DAYLIGHT
DTSTART:20140330T030000
RDATE:20141026T020000
TZOFFSETFROM:+0100
TZOFFSETTO:+0200
TZNAME:Europe/Vienna CEST
END:DAYLIGHT
BEGIN:DAYLIGHT
DTSTART:20150329T030000
RDATE:20151025T020000
TZOFFSETFROM:+0100
TZOFFSETTO:+0200
TZNAME:Europe/Vienna CEST
END:DAYLIGHT
BEGIN:DAYLIGHT
DTSTART:20160327T030000
RDATE:20161030T020000
TZOFFSETFROM:+0100
TZOFFSETTO:+0200
TZNAME:Europe/Vienna CEST
END:DAYLIGHT
BEGIN:DAYLIGHT
DTSTART:20170326T030000
RDATE:20171029T020000
TZOFFSETFROM:+0100
TZOFFSETTO:+0200
TZNAME:Europe/Vienna CEST
END:DAYLIGHT
BEGIN:DAYLIGHT
DTSTART:20180325T030000
RDATE:20181028T020000
TZOFFSETFROM:+0100
TZOFFSETTO:+0200
TZNAME:Europe/Vienna CEST
END:DAYLIGHT
BEGIN:DAYLIGHT
DTSTART:20190331T030000
RDATE:20191027T020000
TZOFFSETFROM:+0100
TZOFFSETTO:+0200
TZNAME:Europe/Vienna CEST
END:DAYLIGHT
BEGIN:DAYLIGHT
DTSTART:20200329T030000
RDATE:20201025T020000
TZOFFSETFROM:+0100
TZOFFSETTO:+0200
TZNAME:Europe/Vienna CEST
END:DAYLIGHT
END:VTIMEZONE
BEGIN:VEVENT
UID:7e95b26a4c404e468b63b003ca6a8bde
CATEGORIES:Termine
CREATED:20140306T131057
SUMMARY:Vienna Saxophonic Orchestra
LOCATION:Traismauer in Niederösterreich
DESCRIPTION:Werke von Grieg, Norris, Dukas, Geiss, Maurer und Johann S. Bach\nKarten un
 ter 02783/8651-11, 02783/8555 oder Diese E-Mail-Adresse ist vor Spambots ge
 schützt! Zur Anzeige muss JavaScript eingeschaltet sein!
				document.getEl
 ementById('cloak4cbfdd2fe27e47e910d2db624c20d057').innerHTML = '';
				var 
 prefix = '&#109;a' + 'i&#108;' + '&#116;o';
				var path = 'hr' + 'ef' + '=
 ';
				var addy4cbfdd2fe27e47e910d2db624c20d057 = 'tr&#97;&#105;sm&#97;&#11
 7;&#101;r' + '&#64;';
				addy4cbfdd2fe27e47e910d2db624c20d057 = addy4cbfdd
 2fe27e47e910d2db624c20d057 + 'd&#111;n&#97;&#117;' + '&#46;' + 'c&#111;m';

 				var addy_text4cbfdd2fe27e47e910d2db624c20d057 = 'tr&#97;&#105;sm&#97;&#
 117;&#101;r' + '&#64;' + 'd&#111;n&#97;&#117;' + '&#46;' + 'c&#111;m';docum
 ent.getElementById('cloak4cbfdd2fe27e47e910d2db624c20d057').innerHTML += '<
 a ' + path + '\'' + prefix + ':' + addy4cbfdd2fe27e47e910d2db624c20d057 + '
 \'>'+addy_text4cbfdd2fe27e47e910d2db624c20d057+'';
		 Ansprechpartner Frau 
 Mag. Nicole Weiss +43 650 2232314\n
X-ALT-DESC;FMTTYPE=text/html:<p><span style="line-height: 1.3em;">Werke von Grieg, Norris, Dukas, Geiss,
  Maurer und Johann S. Bach</span></p><p><span style="line-height: 1.3em;"><
 span style="color: #141823; line-height: 17.920000076293945px;">Karten unte
 r 02783/8651-11, 02783/8555 oder <span id="cloak4cbfdd2fe27e47e910d2db624c2
 0d057">Diese E-Mail-Adresse ist vor Spambots geschützt! Zur Anzeige muss Ja
 vaScript eingeschaltet sein!</span><script type='text/javascript'>
				docu
 ment.getElementById('cloak4cbfdd2fe27e47e910d2db624c20d057').innerHTML = ''
 ;
				var prefix = '&#109;a' + 'i&#108;' + '&#116;o';
				var path = 'hr' +
  'ef' + '=';
				var addy4cbfdd2fe27e47e910d2db624c20d057 = 'tr&#97;&#105;s
 m&#97;&#117;&#101;r' + '&#64;';
				addy4cbfdd2fe27e47e910d2db624c20d057 = 
 addy4cbfdd2fe27e47e910d2db624c20d057 + 'd&#111;n&#97;&#117;' + '&#46;' + 'c
 &#111;m';
				var addy_text4cbfdd2fe27e47e910d2db624c20d057 = 'tr&#97;&#105
 ;sm&#97;&#117;&#101;r' + '&#64;' + 'd&#111;n&#97;&#117;' + '&#46;' + 'c&#11
 1;m';document.getElementById('cloak4cbfdd2fe27e47e910d2db624c20d057').inner
 HTML += '<a ' + path + '\'' + prefix + ':' + addy4cbfdd2fe27e47e910d2db624c
 20d057 + '\'>'+addy_text4cbfdd2fe27e47e910d2db624c20d057+'<\/a>';
		</scrip
 t> </span><br style="color: #141823; font-family: Helvetica, Arial, 'lucida
  grande', tahoma, verdana, arial, sans-serif; font-size: 14px; line-height:
  17.920000076293945px;" /><span style="color: #141823; line-height: 17.9200
 00076293945px;">Ansprechpartner Frau Mag. Nicole Weiss </span><br style="co
 lor: #141823; font-family: Helvetica, Arial, 'lucida grande', tahoma, verda
 na, arial, sans-serif; font-size: 14px; line-height: 17.920000076293945px;"
  /><span style="color: #141823; line-height: 17.920000076293945px;">+43 650
  2232314</span></span></p>
DTSTAMP:20260425T035853
DTSTART;TZID=Europe/Vienna:20140704T200000
SEQUENCE:0
TRANSP:OPAQUE
END:VEVENT
END:VCALENDAR