BEGIN:VCALENDAR
VERSION:2.0
PRODID:-//jEvents 2.0 for Joomla//EN
CALSCALE:GREGORIAN
METHOD:PUBLISH
BEGIN:VTIMEZONE
TZID:Europe/Vienna
BEGIN:STANDARD
DTSTART:20190214T110000
RDATE:20190331T030000
TZOFFSETFROM:+0200
TZOFFSETTO:+0100
TZNAME:Europe/Vienna CET
END:STANDARD
BEGIN:STANDARD
DTSTART:20191027T020000
RDATE:20200329T030000
TZOFFSETFROM:+0200
TZOFFSETTO:+0100
TZNAME:Europe/Vienna CET
END:STANDARD
BEGIN:STANDARD
DTSTART:20201025T020000
RDATE:20210328T030000
TZOFFSETFROM:+0200
TZOFFSETTO:+0100
TZNAME:Europe/Vienna CET
END:STANDARD
BEGIN:DAYLIGHT
DTSTART:20190331T030000
RDATE:20191027T020000
TZOFFSETFROM:+0100
TZOFFSETTO:+0200
TZNAME:Europe/Vienna CEST
END:DAYLIGHT
BEGIN:DAYLIGHT
DTSTART:20200329T030000
RDATE:20201025T020000
TZOFFSETFROM:+0100
TZOFFSETTO:+0200
TZNAME:Europe/Vienna CEST
END:DAYLIGHT
END:VTIMEZONE
BEGIN:VEVENT
UID:abd2cdfa1171d5b7add9c9a13c7e2f00
CATEGORIES:Termine
CREATED:20200124T074549
SUMMARY:Umrahmung der Eröffnung von "Tu Felix Austria ... Zeichne!" im Karikaturmuseum Krems
LOCATION:Karikaturmuseum Krems
DESCRIPTION:Musikalische Umrahmung zur Eröffnung der Ausstellung\n"Tu Felix Austria ...
  Zeichne!"\n\nKarikaturmuseum Krems\nBeginn: 11:00 Uhr\n\nSax Arte Saxophon
 quartett:\n\nAlexandra Pichler\nFerenc Takacs\nViola Jank\nunter der Leitun
 g von Markus Holzer
X-ALT-DESC;FMTTYPE=text/html:Musikalische Umrahmung zur Eröffnung der Ausstellung<br />"Tu Felix Austria
  ... Zeichne!"<br /><br />Karikaturmuseum Krems<br />Beginn: 11:00 Uhr<br /
 ><br />Sax Arte Saxophonquartett:<br /><br />Alexandra Pichler<br />Ferenc 
 Takacs<br />Viola Jank<br />unter der Leitung von Markus Holzer
CONTACT:www.karikaturmuseum.at
DTSTAMP:20260420T133015
DTSTART;TZID=Europe/Vienna:20200215T110000
SEQUENCE:0
TRANSP:OPAQUE
END:VEVENT
END:VCALENDAR