BEGIN:VCALENDAR
VERSION:2.0
PRODID:-//jEvents 2.0 for Joomla//EN
CALSCALE:GREGORIAN
METHOD:PUBLISH
BEGIN:VTIMEZONE
TZID:Europe/Vienna
BEGIN:STANDARD
DTSTART:20181130T000000
RDATE:20190331T030000
TZOFFSETFROM:+0200
TZOFFSETTO:+0100
TZNAME:Europe/Vienna CET
END:STANDARD
BEGIN:STANDARD
DTSTART:20191027T020000
RDATE:20200329T030000
TZOFFSETFROM:+0200
TZOFFSETTO:+0100
TZNAME:Europe/Vienna CET
END:STANDARD
BEGIN:STANDARD
DTSTART:20201025T020000
RDATE:20210328T030000
TZOFFSETFROM:+0200
TZOFFSETTO:+0100
TZNAME:Europe/Vienna CET
END:STANDARD
BEGIN:DAYLIGHT
DTSTART:20190331T030000
RDATE:20191027T020000
TZOFFSETFROM:+0100
TZOFFSETTO:+0200
TZNAME:Europe/Vienna CEST
END:DAYLIGHT
BEGIN:DAYLIGHT
DTSTART:20200329T030000
RDATE:20201025T020000
TZOFFSETFROM:+0100
TZOFFSETTO:+0200
TZNAME:Europe/Vienna CEST
END:DAYLIGHT
END:VTIMEZONE
BEGIN:VEVENT
UID:ade4b5519bcd8e4fcccba0079a3f4910
CATEGORIES:Termine
CREATED:20191113T221138
SUMMARY:Saxophonquartett
DESCRIPTION:Geschlossene Veranstaltung in Niederösterreich\nSax Arte Saxophonquartett
X-ALT-DESC;FMTTYPE=text/html:Geschlossene Veranstaltung in Niederösterreich<br />Sax Arte Saxophonquarte
 tt
DTSTAMP:20260421T151653
DTSTART;TZID=Europe/Vienna;VALUE=DATE:20191201
DTEND;TZID=Europe/Vienna;VALUE=DATE:20191202
SEQUENCE:0
TRANSP:OPAQUE
END:VEVENT
END:VCALENDAR