BEGIN:VCALENDAR
VERSION:2.0
PRODID:-//jEvents 2.0 for Joomla//EN
CALSCALE:GREGORIAN
METHOD:PUBLISH
BEGIN:VTIMEZONE
TZID:Europe/Vienna
BEGIN:STANDARD
DTSTART:20181207T160000
RDATE:20190331T030000
TZOFFSETFROM:+0200
TZOFFSETTO:+0100
TZNAME:Europe/Vienna CET
END:STANDARD
BEGIN:STANDARD
DTSTART:20191027T020000
RDATE:20200329T030000
TZOFFSETFROM:+0200
TZOFFSETTO:+0100
TZNAME:Europe/Vienna CET
END:STANDARD
BEGIN:STANDARD
DTSTART:20201025T020000
RDATE:20210328T030000
TZOFFSETFROM:+0200
TZOFFSETTO:+0100
TZNAME:Europe/Vienna CET
END:STANDARD
BEGIN:DAYLIGHT
DTSTART:20190331T030000
RDATE:20191027T020000
TZOFFSETFROM:+0100
TZOFFSETTO:+0200
TZNAME:Europe/Vienna CEST
END:DAYLIGHT
BEGIN:DAYLIGHT
DTSTART:20200329T030000
RDATE:20201025T020000
TZOFFSETFROM:+0100
TZOFFSETTO:+0200
TZNAME:Europe/Vienna CEST
END:DAYLIGHT
END:VTIMEZONE
BEGIN:VEVENT
UID:d14bd434a7d4735386a260d1e0f48cd7
CATEGORIES:Termine
CREATED:20191004T073921
SUMMARY:Gedanken und Klänge zum Advent: Chor St. Peter und Paul und das Sax Arte Saxophonquartett
LOCATION:Pfarrkirche Hadersdorf
DESCRIPTION:Chor St. Peter und Paul\nLtg. Bärbel Bauer\n\nSax Arte Saxophonquartett\nAl
 exandra Pichler, Ferenc Takacs\nViola Jank, Markus Holzer\n\nTraditional - 
 Shalom Lai Lai\nBach - Italienisches Konzert, BWV 971\nRutter - Weihnachtsw
 iegenlied\nPentatonix - Carol of the Bells\nCohen - Halleluja\nMaierhofer -
  Adventjodler\n \n \n
X-ALT-DESC;FMTTYPE=text/html:<p>Chor St. Peter und Paul<br />Ltg. Bärbel Bauer<br /><br />Sax Arte Saxop
 honquartett<br />Alexandra Pichler, Ferenc Takacs<br />Viola Jank, Markus H
 olzer<br /><br />Traditional - Shalom Lai Lai<br />Bach - Italienisches Kon
 zert, BWV 971<br />Rutter - Weihnachtswiegenlied<br />Pentatonix - Carol of
  the Bells<br />Cohen - Halleluja<br />Maierhofer - Adventjodler</p><p>&nbs
 p;</p><p>&nbsp;</p>
DTSTAMP:20260421T134921
DTSTART;TZID=Europe/Vienna:20191208T160000
SEQUENCE:0
TRANSP:OPAQUE
END:VEVENT
END:VCALENDAR