BEGIN:VCALENDAR
VERSION:2.0
PRODID:-//jEvents 2.0 for Joomla//EN
CALSCALE:GREGORIAN
METHOD:PUBLISH
BEGIN:VTIMEZONE
TZID:Europe/Vienna
BEGIN:STANDARD
DTSTART:20181028T020000
RDATE:20190331T030000
TZOFFSETFROM:+0200
TZOFFSETTO:+0100
TZNAME:Europe/Vienna CET
END:STANDARD
BEGIN:STANDARD
DTSTART:20191027T020000
RDATE:20200329T030000
TZOFFSETFROM:+0200
TZOFFSETTO:+0100
TZNAME:Europe/Vienna CET
END:STANDARD
BEGIN:STANDARD
DTSTART:20201025T020000
RDATE:20210328T030000
TZOFFSETFROM:+0200
TZOFFSETTO:+0100
TZNAME:Europe/Vienna CET
END:STANDARD
BEGIN:DAYLIGHT
DTSTART:20181004T200000
RDATE:20181028T020000
TZOFFSETFROM:+0100
TZOFFSETTO:+0200
TZNAME:Europe/Vienna CEST
END:DAYLIGHT
BEGIN:DAYLIGHT
DTSTART:20190331T030000
RDATE:20191027T020000
TZOFFSETFROM:+0100
TZOFFSETTO:+0200
TZNAME:Europe/Vienna CEST
END:DAYLIGHT
BEGIN:DAYLIGHT
DTSTART:20200329T030000
RDATE:20201025T020000
TZOFFSETFROM:+0100
TZOFFSETTO:+0200
TZNAME:Europe/Vienna CEST
END:DAYLIGHT
END:VTIMEZONE
BEGIN:VEVENT
UID:1142c43f749c514318a29375ee45389e
CATEGORIES:Termine
CREATED:20191004T065625
SUMMARY:Auftritt im Ignaz Pleyel Museum in Niederösterreich
LOCATION:Ignaz Pleyel Museum\, Niederösterreich
DESCRIPTION:<p>Auftritt im Rahmen der Langen Nacht der Museen in Niederösterreich<br />
 <br />Allessandro Marcello<br />Sonate in d-moll<br /><br /><br />Konzert i
 n Bb-Dur von Ignaz Pleyel<br /><br />Markus Holzer, Saxophon<br />Lydia Pet
 zold, Klavier<br /><br /><br /></p>
CONTACT:www.pleyel.at
DTSTAMP:20260421T092828
DTSTART;TZID=Europe/Vienna:20191005T200000
SEQUENCE:0
TRANSP:OPAQUE
END:VEVENT
END:VCALENDAR