BEGIN:VCALENDAR
VERSION:2.0
PRODID:-//jEvents 2.0 for Joomla//EN
CALSCALE:GREGORIAN
METHOD:PUBLISH
BEGIN:VTIMEZONE
TZID:Europe/Vienna
BEGIN:STANDARD
DTSTART:20190120T000000
RDATE:20190331T030000
TZOFFSETFROM:+0200
TZOFFSETTO:+0100
TZNAME:Europe/Vienna CET
END:STANDARD
BEGIN:STANDARD
DTSTART:20191027T020000
RDATE:20200329T030000
TZOFFSETFROM:+0200
TZOFFSETTO:+0100
TZNAME:Europe/Vienna CET
END:STANDARD
BEGIN:STANDARD
DTSTART:20201025T020000
RDATE:20210328T030000
TZOFFSETFROM:+0200
TZOFFSETTO:+0100
TZNAME:Europe/Vienna CET
END:STANDARD
BEGIN:DAYLIGHT
DTSTART:20190331T030000
RDATE:20191027T020000
TZOFFSETFROM:+0100
TZOFFSETTO:+0200
TZNAME:Europe/Vienna CEST
END:DAYLIGHT
BEGIN:DAYLIGHT
DTSTART:20200329T030000
RDATE:20201025T020000
TZOFFSETFROM:+0100
TZOFFSETTO:+0200
TZNAME:Europe/Vienna CEST
END:DAYLIGHT
END:VTIMEZONE
BEGIN:VEVENT
UID:edc5eaf82bfb79f93a027ca94b48a395
CATEGORIES:Termine
CREATED:20190915T084448
SUMMARY:4saxess Saxophonquartett zu Gast in Bratislava
DESCRIPTION:Erstmals konzertieren die 4saxess in Bratislava, Slowakei\n\nPeter und Dani
 ela Rohrsdorfer\nEberhard Reiter\nMarkus Holzer\n\nNähere Infos folgen in K
 ürze!
X-ALT-DESC;FMTTYPE=text/html:Erstmals konzertieren die 4saxess in Bratislava, Slowakei<br /><br />Peter 
 und Daniela Rohrsdorfer<br />Eberhard Reiter<br />Markus Holzer<br /><br />
 Nähere Infos folgen in Kürze!
CONTACT:www.4saxess.com
DTSTAMP:20260420T121213
DTSTART;TZID=Europe/Vienna;VALUE=DATE:20200121
DTEND;TZID=Europe/Vienna;VALUE=DATE:20200122
SEQUENCE:0
TRANSP:OPAQUE
END:VEVENT
END:VCALENDAR