BEGIN:VCALENDAR
VERSION:2.0
PRODID:-//jEvents 2.0 for Joomla//EN
CALSCALE:GREGORIAN
METHOD:PUBLISH
BEGIN:VTIMEZONE
TZID:Europe/Vienna
BEGIN:STANDARD
DTSTART:20181028T020000
RDATE:20190331T030000
TZOFFSETFROM:+0200
TZOFFSETTO:+0100
TZNAME:Europe/Vienna CET
END:STANDARD
BEGIN:STANDARD
DTSTART:20191027T020000
RDATE:20200329T030000
TZOFFSETFROM:+0200
TZOFFSETTO:+0100
TZNAME:Europe/Vienna CET
END:STANDARD
BEGIN:STANDARD
DTSTART:20201025T020000
RDATE:20210328T030000
TZOFFSETFROM:+0200
TZOFFSETTO:+0100
TZNAME:Europe/Vienna CET
END:STANDARD
BEGIN:DAYLIGHT
DTSTART:20180727T000000
RDATE:20181028T020000
TZOFFSETFROM:+0100
TZOFFSETTO:+0200
TZNAME:Europe/Vienna CEST
END:DAYLIGHT
BEGIN:DAYLIGHT
DTSTART:20190331T030000
RDATE:20191027T020000
TZOFFSETFROM:+0100
TZOFFSETTO:+0200
TZNAME:Europe/Vienna CEST
END:DAYLIGHT
BEGIN:DAYLIGHT
DTSTART:20200329T030000
RDATE:20201025T020000
TZOFFSETFROM:+0100
TZOFFSETTO:+0200
TZNAME:Europe/Vienna CEST
END:DAYLIGHT
END:VTIMEZONE
BEGIN:VEVENT
UID:a804ccd1fbadc07cca69f00be07a123a
CATEGORIES:Termine
CREATED:20190712T123932
SUMMARY:Eröffnungskonzert bei Balatonsax 2019
DESCRIPTION:Eröffnung von Balatonsax 2019<br /><br />Erstmals darf ich als Referent bei
 m Internationalen Klarinetten- und Saxophonkurs "Balatonsax 2019" in Ungarn
  mitwirken.<br /><br />Philippe Geiss:<br />Foxy Music<br /><br />Markus Ho
 lzer, Sopran Saxophon<br />Bence Szepesi, Alt Saxophon<br />N. N., Klavier
CONTACT:www.balatonsax.com
DTSTAMP:20260420T185228
DTSTART;TZID=Europe/Vienna;VALUE=DATE:20190728
DTEND;TZID=Europe/Vienna;VALUE=DATE:20190729
SEQUENCE:0
TRANSP:OPAQUE
END:VEVENT
END:VCALENDAR