BEGIN:VCALENDAR
VERSION:2.0
PRODID:-//jEvents 2.0 for Joomla//EN
CALSCALE:GREGORIAN
METHOD:PUBLISH
BEGIN:VTIMEZONE
TZID:Europe/Vienna
BEGIN:STANDARD
DTSTART:20181028T020000
RDATE:20190331T030000
TZOFFSETFROM:+0200
TZOFFSETTO:+0100
TZNAME:Europe/Vienna CET
END:STANDARD
BEGIN:STANDARD
DTSTART:20191027T020000
RDATE:20200329T030000
TZOFFSETFROM:+0200
TZOFFSETTO:+0100
TZNAME:Europe/Vienna CET
END:STANDARD
BEGIN:STANDARD
DTSTART:20201025T020000
RDATE:20210328T030000
TZOFFSETFROM:+0200
TZOFFSETTO:+0100
TZNAME:Europe/Vienna CET
END:STANDARD
BEGIN:DAYLIGHT
DTSTART:20181025T200000
RDATE:20181028T020000
TZOFFSETFROM:+0100
TZOFFSETTO:+0200
TZNAME:Europe/Vienna CEST
END:DAYLIGHT
BEGIN:DAYLIGHT
DTSTART:20190331T030000
RDATE:20191027T020000
TZOFFSETFROM:+0100
TZOFFSETTO:+0200
TZNAME:Europe/Vienna CEST
END:DAYLIGHT
BEGIN:DAYLIGHT
DTSTART:20200329T030000
RDATE:20201025T020000
TZOFFSETFROM:+0100
TZOFFSETTO:+0200
TZNAME:Europe/Vienna CEST
END:DAYLIGHT
END:VTIMEZONE
BEGIN:VEVENT
UID:ba8d684098d65ab87af5d224743f9ddb
CATEGORIES:Termine
CREATED:20190712T123535
SUMMARY:Saxophonquartett in Grafenegg
DESCRIPTION:Konzert im Rahmen des Internationalen Wettbewerbs für Blasorchester \nAudit
 orium Grafenegg, 20:00 Uhr\n\nSax Arte Saxophonquartett, bestehend aus Prof
 imusikerInnen und ehemaligen MusikschülerInnen der Musikschule Region Wagra
 m, Leitung Markus Holzer.\n\nAlexandra Pichler, Sopransaxophon\nFerenc Taka
 cs, Altsaxophon\nViola Jank, Tenorsaxophon\nMarkus Holzer, Baritonsaxophon 
 und Leitung\n\nPhilipp Glass\nSaxophonquartett (1995)\n\nSteven Verhelst\nS
 ong For Japan (2011)\n\nPedro Iturralde\nPequena Czardas \n\nAstor Piazzoll
 a\nLibertango\n\nAuditorium Grafenegg, 20:00 Uhr\n
X-ALT-DESC;FMTTYPE=text/html:<p>Konzert im Rahmen des Internationalen Wettbewerbs für Blasorchester&nbsp
 ;<br />Auditorium Grafenegg, 20:00 Uhr<br /><br />Sax Arte Saxophonquartett
 , bestehend aus ProfimusikerInnen und ehemaligen MusikschülerInnen der Musi
 kschule Region Wagram, Leitung Markus Holzer.<br /><br />Alexandra Pichler,
  Sopransaxophon<br />Ferenc Takacs, Altsaxophon<br />Viola Jank, Tenorsaxop
 hon<br />Markus Holzer, Baritonsaxophon und Leitung</p><p><br />Philipp Gla
 ss<br />Saxophonquartett (1995)<br /><br />Steven Verhelst<br />Song For Ja
 pan (2011)<br /><br />Pedro Iturralde<br />Pequena Czardas&nbsp;<br /><br /
 >Astor Piazzolla<br />Libertango</p><p><br />Auditorium Grafenegg, 20:00 Uh
 r</p>
DTSTAMP:20260421T123100
DTSTART;TZID=Europe/Vienna:20191026T200000
SEQUENCE:0
TRANSP:OPAQUE
END:VEVENT
END:VCALENDAR