BEGIN:VCALENDAR
VERSION:2.0
PRODID:-//jEvents 2.0 for Joomla//EN
CALSCALE:GREGORIAN
METHOD:PUBLISH
BEGIN:VTIMEZONE
TZID:Europe/Vienna
BEGIN:STANDARD
DTSTART:20181205T100000
RDATE:20190331T030000
TZOFFSETFROM:+0200
TZOFFSETTO:+0100
TZNAME:Europe/Vienna CET
END:STANDARD
BEGIN:STANDARD
DTSTART:20191027T020000
RDATE:20200329T030000
TZOFFSETFROM:+0200
TZOFFSETTO:+0100
TZNAME:Europe/Vienna CET
END:STANDARD
BEGIN:STANDARD
DTSTART:20201025T020000
RDATE:20210328T030000
TZOFFSETFROM:+0200
TZOFFSETTO:+0100
TZNAME:Europe/Vienna CET
END:STANDARD
BEGIN:DAYLIGHT
DTSTART:20190331T030000
RDATE:20191027T020000
TZOFFSETFROM:+0100
TZOFFSETTO:+0200
TZNAME:Europe/Vienna CEST
END:DAYLIGHT
BEGIN:DAYLIGHT
DTSTART:20200329T030000
RDATE:20201025T020000
TZOFFSETFROM:+0100
TZOFFSETTO:+0200
TZNAME:Europe/Vienna CEST
END:DAYLIGHT
END:VTIMEZONE
BEGIN:VEVENT
UID:ae651ce2a66f059673a00ee24a879265
CATEGORIES:Termine
CREATED:20190712T123015
SUMMARY:Saxophonquartett beim Grafenegger Advent
DESCRIPTION:<p>Sax Arte Saxophonquartett<br />Alexandra Pichler<br />Ferenc Takacs<br /
 >Viola Jank<br />Markus Holzer<br /><span style="background-color: inherit;
  color: inherit; font-family: inherit; font-size: 1rem;"><br />Umrahmung de
 s Grafenegger Advents mit den MusikerInnen vom Sax Arte Saxophon-Quartett:<
 /span></p><p>Weihnachtslieder, bluesige und jazzige Weihnachtsuntermalung<b
 r /><br />10 bis 13 Uhr<br />Adventmarkt in Grafenegg 2019</p>
DTSTAMP:20260421T153700
DTSTART;TZID=Europe/Vienna:20191206T100000
SEQUENCE:0
TRANSP:OPAQUE
END:VEVENT
END:VCALENDAR