BEGIN:VCALENDAR
VERSION:2.0
PRODID:-//jEvents 2.0 for Joomla//EN
CALSCALE:GREGORIAN
METHOD:PUBLISH
BEGIN:VTIMEZONE
TZID:Europe/Vienna
BEGIN:STANDARD
DTSTART:20181028T020000
RDATE:20190331T030000
TZOFFSETFROM:+0200
TZOFFSETTO:+0100
TZNAME:Europe/Vienna CET
END:STANDARD
BEGIN:STANDARD
DTSTART:20191027T020000
RDATE:20200329T030000
TZOFFSETFROM:+0200
TZOFFSETTO:+0100
TZNAME:Europe/Vienna CET
END:STANDARD
BEGIN:STANDARD
DTSTART:20201025T020000
RDATE:20210328T030000
TZOFFSETFROM:+0200
TZOFFSETTO:+0100
TZNAME:Europe/Vienna CET
END:STANDARD
BEGIN:DAYLIGHT
DTSTART:20180725T200000
RDATE:20181028T020000
TZOFFSETFROM:+0100
TZOFFSETTO:+0200
TZNAME:Europe/Vienna CEST
END:DAYLIGHT
BEGIN:DAYLIGHT
DTSTART:20190331T030000
RDATE:20191027T020000
TZOFFSETFROM:+0100
TZOFFSETTO:+0200
TZNAME:Europe/Vienna CEST
END:DAYLIGHT
BEGIN:DAYLIGHT
DTSTART:20200329T030000
RDATE:20201025T020000
TZOFFSETFROM:+0100
TZOFFSETTO:+0200
TZNAME:Europe/Vienna CEST
END:DAYLIGHT
END:VTIMEZONE
BEGIN:VEVENT
UID:fa074f0e7450712fdd2967dd8a504c24
CATEGORIES:Termine
CREATED:20190628T130327
SUMMARY:Konzert mit dem Hungarian Clarinet & Saxophone Consort; Bence Szepesi und das Magyar Klarinét & Szaxofon Konsort
LOCATION:Balatonalmadi; Szent Erzebet Liget
DESCRIPTION:<p><span style="font-size: 12pt;">Bence Szepesi und das Ungarische Klarinet
 ten und Saxophon Consort</span><br /><br /><span style="font-size: 12pt;">P
 hilippe Geiss: </span><br /><span style="font-size: 12pt;">Foxy Music</span
 ><br /><br /><span style="font-size: 12pt;">Markus Holzer, Alto-Saxophone</
 span><br /><span style="font-size: 12pt;"><span style="background-color: in
 herit; color: inherit; font-family: inherit;">Bence Szepsi, Alto-Saxophone<
 br /></span>N. N., piano</span></p><p><br /><span style="font-size: 12pt;">
 Four Pictures From New York - Roberto Molinelli</span><br /><span style="fo
 nt-size: 12pt;">"Tango Club"</span><br /><br /><span style="font-size: 12pt
 ;">Soloist: Markus Holzer, Alto-Saxophon</span><br /><span style="font-size
 : 12pt;">Ungarisches Klarinetten und Saxophon Consort</span><br /><br /><sp
 an style="font-size: 12pt;">Solo:</span><br /><br /><span style="font-size:
  12pt;">Barry Cockroft: Rock Me!</span><br /><br /><span style="font-size: 
 12pt;">Markus Holzer, Alt-Saxophon</span><br /><br /><span style="font-size
 : 12pt;">Balatonalmádi, Szent Erzsébet Liget</span></p>
X-EXTRAINFO:https://www.facebook.com/events/402853100309115/
DTSTAMP:20260420T185226
DTSTART;TZID=Europe/Vienna:20190726T200000
SEQUENCE:0
TRANSP:OPAQUE
END:VEVENT
END:VCALENDAR