BEGIN:VCALENDAR
VERSION:2.0
PRODID:-//jEvents 2.0 for Joomla//EN
CALSCALE:GREGORIAN
METHOD:PUBLISH
BEGIN:VTIMEZONE
TZID:Europe/Vienna
BEGIN:STANDARD
DTSTART:20181129T000000
RDATE:20190331T030000
TZOFFSETFROM:+0200
TZOFFSETTO:+0100
TZNAME:Europe/Vienna CET
END:STANDARD
BEGIN:STANDARD
DTSTART:20191027T020000
RDATE:20200329T030000
TZOFFSETFROM:+0200
TZOFFSETTO:+0100
TZNAME:Europe/Vienna CET
END:STANDARD
BEGIN:STANDARD
DTSTART:20201025T020000
RDATE:20210328T030000
TZOFFSETFROM:+0200
TZOFFSETTO:+0100
TZNAME:Europe/Vienna CET
END:STANDARD
BEGIN:DAYLIGHT
DTSTART:20190331T030000
RDATE:20191027T020000
TZOFFSETFROM:+0100
TZOFFSETTO:+0200
TZNAME:Europe/Vienna CEST
END:DAYLIGHT
BEGIN:DAYLIGHT
DTSTART:20200329T030000
RDATE:20201025T020000
TZOFFSETFROM:+0100
TZOFFSETTO:+0200
TZNAME:Europe/Vienna CEST
END:DAYLIGHT
END:VTIMEZONE
BEGIN:VEVENT
UID:736df391f2e0872a5f5b80d7dd107ca2
CATEGORIES:Seminare, Workshops
CREATED:20190616T204908
SUMMARY:4saxess - Workshop mit Abendkonzert
DESCRIPTION:4saxess beim Oberösterreichischen Blasmusikverband\nScharnstein, Oberösterr
 eich\n\nganztägiger Workshop\nAbendkonzert
X-ALT-DESC;FMTTYPE=text/html:4saxess beim Oberösterreichischen Blasmusikverband<br />Scharnstein, Oberös
 terreich<br /><br />ganztägiger Workshop<br />Abendkonzert
DTSTAMP:20260420T231351
DTSTART;TZID=Europe/Vienna;VALUE=DATE:20191130
DTEND;TZID=Europe/Vienna;VALUE=DATE:20191201
SEQUENCE:0
TRANSP:OPAQUE
END:VEVENT
END:VCALENDAR