BEGIN:VCALENDAR
VERSION:2.0
PRODID:-//jEvents 2.0 for Joomla//EN
CALSCALE:GREGORIAN
METHOD:PUBLISH
BEGIN:VTIMEZONE
TZID:Europe/Vienna
BEGIN:STANDARD
DTSTART:20181028T020000
RDATE:20190331T030000
TZOFFSETFROM:+0200
TZOFFSETTO:+0100
TZNAME:Europe/Vienna CET
END:STANDARD
BEGIN:STANDARD
DTSTART:20191027T020000
RDATE:20200329T030000
TZOFFSETFROM:+0200
TZOFFSETTO:+0100
TZNAME:Europe/Vienna CET
END:STANDARD
BEGIN:STANDARD
DTSTART:20201025T020000
RDATE:20210328T030000
TZOFFSETFROM:+0200
TZOFFSETTO:+0100
TZNAME:Europe/Vienna CET
END:STANDARD
BEGIN:DAYLIGHT
DTSTART:20180831T143000
RDATE:20181028T020000
TZOFFSETFROM:+0100
TZOFFSETTO:+0200
TZNAME:Europe/Vienna CEST
END:DAYLIGHT
BEGIN:DAYLIGHT
DTSTART:20190331T030000
RDATE:20191027T020000
TZOFFSETFROM:+0100
TZOFFSETTO:+0200
TZNAME:Europe/Vienna CEST
END:DAYLIGHT
BEGIN:DAYLIGHT
DTSTART:20200329T030000
RDATE:20201025T020000
TZOFFSETFROM:+0100
TZOFFSETTO:+0200
TZNAME:Europe/Vienna CEST
END:DAYLIGHT
END:VTIMEZONE
BEGIN:VEVENT
UID:c8eae9ca312d4cc78faf0d5303aaaeef
CATEGORIES:Termine
CREATED:20190616T204633
SUMMARY:Nachmittagskonzert in Grafenegg
LOCATION:Schönwetter: Schlosspark Grafenegg; Schlechtwetter: Eingangsbereich Auditor
 ium
DESCRIPTION:Nachmittags-Konzert im Rahmen des Musikfestivals Grafenegg\n\nAndrea Edlbau
 er, Sopransaxophon\nMarkus Holzer, Altsaxophon und Leitung\nViola Jank, Ten
 orsaxophon\nFabian Limani, Baritonsaxophon\n\nFerenc Farkas\nAlte Ungarisch
 e Tänze (17. Jhdt.)\n\nFranz Schubert\nSonate op. 137 Nr. 1\n(original für 
 Violine und Klavier)\n\nJean-Baptiste Singelee\nPremier Quatour (1859)\n\nA
 ndante - Allegro\nAllegro moderato\n\nSteven Verhelst\nSong For Japan\n\nAs
 tor Piazzolla\nLibertango\n\n\n \n
X-ALT-DESC;FMTTYPE=text/html:<p>Nachmittags-Konzert im Rahmen des Musikfestivals Grafenegg<br /><br />An
 drea Edlbauer, Sopransaxophon<br />Markus Holzer, Altsaxophon und Leitung<b
 r />Viola Jank, Tenorsaxophon<br />Fabian Limani, Baritonsaxophon<br /><br 
 />Ferenc Farkas<br />Alte Ungarische Tänze (17. Jhdt.)<br /><br />Franz Sch
 ubert<br />Sonate op. 137 Nr. 1<br />(original für Violine und Klavier)<br 
 /><br />Jean-Baptiste Singelee<br />Premier Quatour (1859)<br /><br />Andan
 te - Allegro<br />Allegro moderato<br /><br />Steven Verhelst<br />Song For
  Japan<br /><br />Astor Piazzolla<br />Libertango<br /><br /></p><p>&nbsp;<
 /p>
CONTACT:www.grafenegg.com
DTSTAMP:20260421T003933
DTSTART;TZID=Europe/Vienna:20190901T143000
SEQUENCE:0
TRANSP:OPAQUE
END:VEVENT
END:VCALENDAR