BEGIN:VCALENDAR
VERSION:2.0
PRODID:-//jEvents 2.0 for Joomla//EN
CALSCALE:GREGORIAN
METHOD:PUBLISH
BEGIN:VTIMEZONE
TZID:Europe/Vienna
BEGIN:STANDARD
DTSTART:20190301T170000
RDATE:20190331T030000
TZOFFSETFROM:+0200
TZOFFSETTO:+0100
TZNAME:Europe/Vienna CET
END:STANDARD
BEGIN:STANDARD
DTSTART:20191027T020000
RDATE:20200329T030000
TZOFFSETFROM:+0200
TZOFFSETTO:+0100
TZNAME:Europe/Vienna CET
END:STANDARD
BEGIN:STANDARD
DTSTART:20201025T020000
RDATE:20210328T030000
TZOFFSETFROM:+0200
TZOFFSETTO:+0100
TZNAME:Europe/Vienna CET
END:STANDARD
BEGIN:DAYLIGHT
DTSTART:20190331T030000
RDATE:20191027T020000
TZOFFSETFROM:+0100
TZOFFSETTO:+0200
TZNAME:Europe/Vienna CEST
END:DAYLIGHT
BEGIN:DAYLIGHT
DTSTART:20200329T030000
RDATE:20201025T020000
TZOFFSETFROM:+0100
TZOFFSETTO:+0200
TZNAME:Europe/Vienna CEST
END:DAYLIGHT
END:VTIMEZONE
BEGIN:VEVENT
UID:e8ac9f34a18d92828d508b16934f9522
CATEGORIES:Termine
CREATED:20190529T072554
SUMMARY:4saxess plus Klavier in Bisamberg, Niederösterreich
DESCRIPTION:4saxess Saxophonquartett plus Klavier in Bisamberg, Niederösterreich\n\nWer
 ke von Michael Nyman, Philip Glass, Daniel Muck, Franz Joseph Haydn, George
 s Bizet und Pedro Iturralde\n\n4saxess\nPeter und Daniela Rohrsdorfer\nEber
 hard Reiter\nMarkus Holzer\nNikolaus Wagner, Klavier\n\n (http://musikfreun
 de-bisamberg.at/sample-page/)http://musikfreunde-bisamberg.at/sample-page/ 
 (http://musikfreunde-bisamberg.at/sample-page/)\n
X-ALT-DESC;FMTTYPE=text/html:<p>4saxess Saxophonquartett plus Klavier in Bisamberg, Niederösterreich<br 
 /><br />Werke von Michael Nyman, Philip Glass, Daniel Muck, Franz Joseph Ha
 ydn, Georges Bizet und Pedro Iturralde<br /><br />4saxess<br />Peter und Da
 niela Rohrsdorfer<br />Eberhard Reiter<br />Markus Holzer</p><p>Nikolaus Wa
 gner, Klavier<br /><br /><a href="http://musikfreunde-bisamberg.at/sample-p
 age/"></a><a href="http://musikfreunde-bisamberg.at/sample-page/">http://mu
 sikfreunde-bisamberg.at/sample-page/</a></p>
CONTACT:Diese E-Mail-Adresse ist vor Spambots geschützt! Zur Anzeige muss JavaScript eingeschaltet sein!
				document.getElementById('cloak645d6b83f6a03a130466bb49b3632042').innerHTML = '';
				var prefix = '&#109;a' + 'i&#108;' + '&#116;o';
				var path = 'hr' + 'ef' + '=';
				var addy645d6b83f6a03a130466bb49b3632042 = 'ch.r&#111;sch&#101;ck' + '&#64;';
				addy645d6b83f6a03a130466bb49b3632042 = addy645d6b83f6a03a130466bb49b3632042 + 'm&#117;s&#105;kfr&#101;&#117;nd&#101;-b&#105;s&#97;mb&#101;rg' + '&#46;' + '&#97;t';
				var addy_text645d6b83f6a03a130466bb49b3632042 = 'ch.r&#111;sch&#101;ck' + '&#64;' + 'm&#117;s&#105;kfr&#101;&#117;nd&#101;-b&#105;s&#97;mb&#101;rg' + '&#46;' + '&#97;t';document.getElementById('cloak645d6b83f6a03a130466bb49b3632042').innerHTML += '<a ' + path + '\'' + prefix + ':' + addy645d6b83f6a03a130466bb49b3632042 + '\'>'+addy_text645d6b83f6a03a130466bb49b3632042+'';
		
X-EXTRAINFO:Karten unter\nhttp://musikfreunde-bisamberg.at/kartenbestellung-und-preise/
  (http://musikfreunde-bisamberg.at/kartenbestellung-und-preise/)
DTSTAMP:20260420T163949
DTSTART;TZID=Europe/Vienna:20200301T170000
SEQUENCE:0
TRANSP:OPAQUE
END:VEVENT
END:VCALENDAR