BEGIN:VCALENDAR
VERSION:2.0
PRODID:-//jEvents 2.0 for Joomla//EN
CALSCALE:GREGORIAN
METHOD:PUBLISH
BEGIN:VTIMEZONE
TZID:Europe/Vienna
BEGIN:STANDARD
DTSTART:20131116T193000
RDATE:20140330T030000
TZOFFSETFROM:+0200
TZOFFSETTO:+0100
TZNAME:Europe/Vienna CET
END:STANDARD
BEGIN:STANDARD
DTSTART:20141026T020000
RDATE:20150329T030000
TZOFFSETFROM:+0200
TZOFFSETTO:+0100
TZNAME:Europe/Vienna CET
END:STANDARD
BEGIN:STANDARD
DTSTART:20151025T020000
RDATE:20160327T030000
TZOFFSETFROM:+0200
TZOFFSETTO:+0100
TZNAME:Europe/Vienna CET
END:STANDARD
BEGIN:STANDARD
DTSTART:20161030T020000
RDATE:20170326T030000
TZOFFSETFROM:+0200
TZOFFSETTO:+0100
TZNAME:Europe/Vienna CET
END:STANDARD
BEGIN:STANDARD
DTSTART:20171029T020000
RDATE:20180325T030000
TZOFFSETFROM:+0200
TZOFFSETTO:+0100
TZNAME:Europe/Vienna CET
END:STANDARD
BEGIN:STANDARD
DTSTART:20181028T020000
RDATE:20190331T030000
TZOFFSETFROM:+0200
TZOFFSETTO:+0100
TZNAME:Europe/Vienna CET
END:STANDARD
BEGIN:STANDARD
DTSTART:20191027T020000
RDATE:20200329T030000
TZOFFSETFROM:+0200
TZOFFSETTO:+0100
TZNAME:Europe/Vienna CET
END:STANDARD
BEGIN:STANDARD
DTSTART:20201025T020000
RDATE:20210328T030000
TZOFFSETFROM:+0200
TZOFFSETTO:+0100
TZNAME:Europe/Vienna CET
END:STANDARD
BEGIN:DAYLIGHT
DTSTART:20140330T030000
RDATE:20141026T020000
TZOFFSETFROM:+0100
TZOFFSETTO:+0200
TZNAME:Europe/Vienna CEST
END:DAYLIGHT
BEGIN:DAYLIGHT
DTSTART:20150329T030000
RDATE:20151025T020000
TZOFFSETFROM:+0100
TZOFFSETTO:+0200
TZNAME:Europe/Vienna CEST
END:DAYLIGHT
BEGIN:DAYLIGHT
DTSTART:20160327T030000
RDATE:20161030T020000
TZOFFSETFROM:+0100
TZOFFSETTO:+0200
TZNAME:Europe/Vienna CEST
END:DAYLIGHT
BEGIN:DAYLIGHT
DTSTART:20170326T030000
RDATE:20171029T020000
TZOFFSETFROM:+0100
TZOFFSETTO:+0200
TZNAME:Europe/Vienna CEST
END:DAYLIGHT
BEGIN:DAYLIGHT
DTSTART:20180325T030000
RDATE:20181028T020000
TZOFFSETFROM:+0100
TZOFFSETTO:+0200
TZNAME:Europe/Vienna CEST
END:DAYLIGHT
BEGIN:DAYLIGHT
DTSTART:20190331T030000
RDATE:20191027T020000
TZOFFSETFROM:+0100
TZOFFSETTO:+0200
TZNAME:Europe/Vienna CEST
END:DAYLIGHT
BEGIN:DAYLIGHT
DTSTART:20200329T030000
RDATE:20201025T020000
TZOFFSETFROM:+0100
TZOFFSETTO:+0200
TZNAME:Europe/Vienna CEST
END:DAYLIGHT
END:VTIMEZONE
BEGIN:VEVENT
UID:4bd024c8eb2f2fbe665b53f80c102482
CATEGORIES:Termine
CREATED:20140303T131622
SUMMARY:4saxess Klangfluss Ensemble 2014/15
LOCATION:Jeunesse Zweigstelle Horn / Niederösterreich
DESCRIPTION:<p> </p><p>Werke von J.S. Bach, Jean-Baptiste Singelee, George Gershwin, As
 tor Piazzolla, Hannes Raffaseder, Johannes Prischl und Helmut Rogl</p><p><s
 pan style="line-height: 1.3em;">Ein Konzert in Kooperation mit der Jeunesse
  Österreich und dem Klangfluss Oberösterreich</span></p><br /><br />
CONTACT:http://www.jeunesse.at/programmtickets/programm-details/event/4-saxess-klangfluss-ensemble-2014.html?tx_onjeunesse_pi1%5
X-EXTRAINFO:Nach der erfolgreichen Tournee in Indonesien gibt es 4saxess wieder in Öste
 rreich zu hören.\n4saxess werden aufgrund der Auswahl zum "Klangfluss Ensem
 ble 2014" eine Reihe von Konzerten in \nKooperation mit der Jeunesse und de
 m Klangfluss Oberösterreich geben.\nZeitgenössische Komponisten (Essl, Raff
 aseder, Rogl) werden Klassikern (Bach, Singelee) gegenübergestellt.\nDen Au
 ftakt bildet der Auftritt im Vereinshaus Horn.»4 Saxess« steht nicht nur fü
 r vier exzellent und virtuos gespielte Saxophone, der Name der jungen und ü
 beraus erfolgreichen oberösterreichischen Formation spielt auch lautmaleris
 ch mit dem englischen Wort »Success«: Denn der Erfolg des vor 200 Jahren vo
 m Belgier Antoine »Adolphe« Sax erfundenen Instrumentes gründet vor allem a
 uf der großen Flexibilität in der Tongebung und erstreckt sich auf untersch
 iedlichste Stilrichtungen. Ganz in diesem Sinne spannt 4 Saxess in seinem E
 rfolgsprogramm den musikalischen Bogen von Bachs »Italienischem Konzert« bi
 s zu Gershwins »Rhapsody in Blue«, Tangos von Astor Piazzolla und aktueller
  Musik (ober-)österreichischer Komponisten – und wurde dafür zum »KlangFlus
 s-Ensemble 2014« gekürt.
DTSTAMP:20260424T185634
DTSTART;TZID=Europe/Vienna:20141117T193000
SEQUENCE:0
TRANSP:OPAQUE
END:VEVENT
END:VCALENDAR