BEGIN:VCALENDAR
VERSION:2.0
PRODID:-//jEvents 2.0 for Joomla//EN
CALSCALE:GREGORIAN
METHOD:PUBLISH
BEGIN:VTIMEZONE
TZID:Europe/Vienna
BEGIN:STANDARD
DTSTART:20181028T020000
RDATE:20190331T030000
TZOFFSETFROM:+0200
TZOFFSETTO:+0100
TZNAME:Europe/Vienna CET
END:STANDARD
BEGIN:STANDARD
DTSTART:20191027T020000
RDATE:20200329T030000
TZOFFSETFROM:+0200
TZOFFSETTO:+0100
TZNAME:Europe/Vienna CET
END:STANDARD
BEGIN:STANDARD
DTSTART:20201025T020000
RDATE:20210328T030000
TZOFFSETFROM:+0200
TZOFFSETTO:+0100
TZNAME:Europe/Vienna CET
END:STANDARD
BEGIN:DAYLIGHT
DTSTART:20180705T200000
RDATE:20181028T020000
TZOFFSETFROM:+0100
TZOFFSETTO:+0200
TZNAME:Europe/Vienna CEST
END:DAYLIGHT
BEGIN:DAYLIGHT
DTSTART:20190331T030000
RDATE:20191027T020000
TZOFFSETFROM:+0100
TZOFFSETTO:+0200
TZNAME:Europe/Vienna CEST
END:DAYLIGHT
BEGIN:DAYLIGHT
DTSTART:20200329T030000
RDATE:20201025T020000
TZOFFSETFROM:+0100
TZOFFSETTO:+0200
TZNAME:Europe/Vienna CEST
END:DAYLIGHT
END:VTIMEZONE
BEGIN:VEVENT
UID:c150924d0bed8256dcdc92a4e3ccde26
CATEGORIES:Termine
CREATED:20190320T093120
SUMMARY:4saxess - Konzert in Hallstatt, Salzburg
DESCRIPTION:The Sound Of Sax\n\nKonzert der 4saxess in Hallstatt\nWerke von Domenico Sc
 arlatti, Franz Joseph Haydn, George Gershwin, Astor Piazzolla, Leonard Bern
 stein und John Williams\n
X-ALT-DESC;FMTTYPE=text/html:<p>The Sound Of Sax<br /><br />Konzert der 4saxess in Hallstatt<br />Werke 
 von Domenico Scarlatti, Franz Joseph Haydn, George Gershwin, Astor Piazzoll
 a, Leonard Bernstein und John Williams</p>
DTSTAMP:20260420T185226
DTSTART;TZID=Europe/Vienna:20190706T200000
SEQUENCE:0
TRANSP:OPAQUE
END:VEVENT
END:VCALENDAR