BEGIN:VCALENDAR
VERSION:2.0
PRODID:-//jEvents 2.0 for Joomla//EN
CALSCALE:GREGORIAN
METHOD:PUBLISH
BEGIN:VTIMEZONE
TZID:Europe/Vienna
BEGIN:STANDARD
DTSTART:20181028T020000
RDATE:20190331T030000
TZOFFSETFROM:+0200
TZOFFSETTO:+0100
TZNAME:Europe/Vienna CET
END:STANDARD
BEGIN:STANDARD
DTSTART:20191027T020000
RDATE:20200329T030000
TZOFFSETFROM:+0200
TZOFFSETTO:+0100
TZNAME:Europe/Vienna CET
END:STANDARD
BEGIN:STANDARD
DTSTART:20201025T020000
RDATE:20210328T030000
TZOFFSETFROM:+0200
TZOFFSETTO:+0100
TZNAME:Europe/Vienna CET
END:STANDARD
BEGIN:DAYLIGHT
DTSTART:20180913T110000
RDATE:20181028T020000
TZOFFSETFROM:+0100
TZOFFSETTO:+0200
TZNAME:Europe/Vienna CEST
END:DAYLIGHT
BEGIN:DAYLIGHT
DTSTART:20190331T030000
RDATE:20191027T020000
TZOFFSETFROM:+0100
TZOFFSETTO:+0200
TZNAME:Europe/Vienna CEST
END:DAYLIGHT
BEGIN:DAYLIGHT
DTSTART:20200329T030000
RDATE:20201025T020000
TZOFFSETFROM:+0100
TZOFFSETTO:+0200
TZNAME:Europe/Vienna CEST
END:DAYLIGHT
END:VTIMEZONE
BEGIN:VEVENT
UID:01d64353ce1b42e4ec3ca78cffabefdc
CATEGORIES:Termine
CREATED:20181203T224955
SUMMARY:Sponsionen - Karl Landsteiner Universität - 4saxess Saxophonquartett
DESCRIPTION:Sponsionen der Bachelor Lehrgänge an der \nKarl Landsteiner Privatuniversit
 ät in Krems an der Donau\n\nMusikalische Umrahmung: 4saxess Saxophonquartet
 t\nwww.4saxess.com\n\n11:00 Uhr\n\n12:30 Uhr\n\n14:30 Uhr
X-ALT-DESC;FMTTYPE=text/html:Sponsionen der Bachelor Lehrgänge an der <br />Karl Landsteiner Privatunive
 rsität in Krems an der Donau<br /><br />Musikalische Umrahmung: 4saxess Sax
 ophonquartett<br />www.4saxess.com<br /><br />11:00 Uhr<br /><br />12:30 Uh
 r<br /><br />14:30 Uhr
DTSTAMP:20260421T053831
DTSTART;TZID=Europe/Vienna:20190914T110000
SEQUENCE:0
TRANSP:OPAQUE
END:VEVENT
END:VCALENDAR