BEGIN:VCALENDAR
VERSION:2.0
PRODID:-//jEvents 2.0 for Joomla//EN
CALSCALE:GREGORIAN
METHOD:PUBLISH
BEGIN:VTIMEZONE
TZID:Europe/Vienna
BEGIN:STANDARD
DTSTART:20171029T020000
RDATE:20180325T030000
TZOFFSETFROM:+0200
TZOFFSETTO:+0100
TZNAME:Europe/Vienna CET
END:STANDARD
BEGIN:STANDARD
DTSTART:20181028T020000
RDATE:20190331T030000
TZOFFSETFROM:+0200
TZOFFSETTO:+0100
TZNAME:Europe/Vienna CET
END:STANDARD
BEGIN:STANDARD
DTSTART:20191027T020000
RDATE:20200329T030000
TZOFFSETFROM:+0200
TZOFFSETTO:+0100
TZNAME:Europe/Vienna CET
END:STANDARD
BEGIN:STANDARD
DTSTART:20201025T020000
RDATE:20210328T030000
TZOFFSETFROM:+0200
TZOFFSETTO:+0100
TZNAME:Europe/Vienna CET
END:STANDARD
BEGIN:DAYLIGHT
DTSTART:20170701T000000
RDATE:20171029T020000
TZOFFSETFROM:+0100
TZOFFSETTO:+0200
TZNAME:Europe/Vienna CEST
END:DAYLIGHT
BEGIN:DAYLIGHT
DTSTART:20180325T030000
RDATE:20181028T020000
TZOFFSETFROM:+0100
TZOFFSETTO:+0200
TZNAME:Europe/Vienna CEST
END:DAYLIGHT
BEGIN:DAYLIGHT
DTSTART:20190331T030000
RDATE:20191027T020000
TZOFFSETFROM:+0100
TZOFFSETTO:+0200
TZNAME:Europe/Vienna CEST
END:DAYLIGHT
BEGIN:DAYLIGHT
DTSTART:20200329T030000
RDATE:20201025T020000
TZOFFSETFROM:+0100
TZOFFSETTO:+0200
TZNAME:Europe/Vienna CEST
END:DAYLIGHT
END:VTIMEZONE
BEGIN:VEVENT
UID:40f4f06bf3508822b4797110c2f14774
CATEGORIES:Termine
CREATED:20180417T074551
SUMMARY:Konzerttournee in Griechenland
DESCRIPTION:Danubia Symphonic Wind Orchestra auf Konzertreise in Griechenland\nLeitung:
  Andreas Simbeni\n2. Juli bis 9. Juli 2018\nStoupa, Kalamata, Messini  
X-ALT-DESC;FMTTYPE=text/html:Danubia Symphonic Wind Orchestra auf Konzertreise in Griechenland<br />Leit
 ung: Andreas Simbeni<br />2. Juli bis 9. Juli 2018<br />Stoupa, Kalamata, M
 essini&nbsp;&nbsp;
DTSTAMP:20260421T060200
DTSTART;TZID=Europe/Vienna;VALUE=DATE:20180702
DTEND;TZID=Europe/Vienna;VALUE=DATE:20180710
SEQUENCE:0
TRANSP:OPAQUE
END:VEVENT
END:VCALENDAR