BEGIN:VCALENDAR
VERSION:2.0
PRODID:-//jEvents 2.0 for Joomla//EN
CALSCALE:GREGORIAN
METHOD:PUBLISH
BEGIN:VTIMEZONE
TZID:Europe/Vienna
BEGIN:STANDARD
DTSTART:20130328T190000
RDATE:20130331T030000
TZOFFSETFROM:+0200
TZOFFSETTO:+0100
TZNAME:Europe/Vienna CET
END:STANDARD
BEGIN:STANDARD
DTSTART:20131027T020000
RDATE:20140330T030000
TZOFFSETFROM:+0200
TZOFFSETTO:+0100
TZNAME:Europe/Vienna CET
END:STANDARD
BEGIN:STANDARD
DTSTART:20141026T020000
RDATE:20150329T030000
TZOFFSETFROM:+0200
TZOFFSETTO:+0100
TZNAME:Europe/Vienna CET
END:STANDARD
BEGIN:STANDARD
DTSTART:20151025T020000
RDATE:20160327T030000
TZOFFSETFROM:+0200
TZOFFSETTO:+0100
TZNAME:Europe/Vienna CET
END:STANDARD
BEGIN:STANDARD
DTSTART:20161030T020000
RDATE:20170326T030000
TZOFFSETFROM:+0200
TZOFFSETTO:+0100
TZNAME:Europe/Vienna CET
END:STANDARD
BEGIN:STANDARD
DTSTART:20171029T020000
RDATE:20180325T030000
TZOFFSETFROM:+0200
TZOFFSETTO:+0100
TZNAME:Europe/Vienna CET
END:STANDARD
BEGIN:STANDARD
DTSTART:20181028T020000
RDATE:20190331T030000
TZOFFSETFROM:+0200
TZOFFSETTO:+0100
TZNAME:Europe/Vienna CET
END:STANDARD
BEGIN:STANDARD
DTSTART:20191027T020000
RDATE:20200329T030000
TZOFFSETFROM:+0200
TZOFFSETTO:+0100
TZNAME:Europe/Vienna CET
END:STANDARD
BEGIN:STANDARD
DTSTART:20201025T020000
RDATE:20210328T030000
TZOFFSETFROM:+0200
TZOFFSETTO:+0100
TZNAME:Europe/Vienna CET
END:STANDARD
BEGIN:DAYLIGHT
DTSTART:20130331T030000
RDATE:20131027T020000
TZOFFSETFROM:+0100
TZOFFSETTO:+0200
TZNAME:Europe/Vienna CEST
END:DAYLIGHT
BEGIN:DAYLIGHT
DTSTART:20140330T030000
RDATE:20141026T020000
TZOFFSETFROM:+0100
TZOFFSETTO:+0200
TZNAME:Europe/Vienna CEST
END:DAYLIGHT
BEGIN:DAYLIGHT
DTSTART:20150329T030000
RDATE:20151025T020000
TZOFFSETFROM:+0100
TZOFFSETTO:+0200
TZNAME:Europe/Vienna CEST
END:DAYLIGHT
BEGIN:DAYLIGHT
DTSTART:20160327T030000
RDATE:20161030T020000
TZOFFSETFROM:+0100
TZOFFSETTO:+0200
TZNAME:Europe/Vienna CEST
END:DAYLIGHT
BEGIN:DAYLIGHT
DTSTART:20170326T030000
RDATE:20171029T020000
TZOFFSETFROM:+0100
TZOFFSETTO:+0200
TZNAME:Europe/Vienna CEST
END:DAYLIGHT
BEGIN:DAYLIGHT
DTSTART:20180325T030000
RDATE:20181028T020000
TZOFFSETFROM:+0100
TZOFFSETTO:+0200
TZNAME:Europe/Vienna CEST
END:DAYLIGHT
BEGIN:DAYLIGHT
DTSTART:20190331T030000
RDATE:20191027T020000
TZOFFSETFROM:+0100
TZOFFSETTO:+0200
TZNAME:Europe/Vienna CEST
END:DAYLIGHT
BEGIN:DAYLIGHT
DTSTART:20200329T030000
RDATE:20201025T020000
TZOFFSETFROM:+0100
TZOFFSETTO:+0200
TZNAME:Europe/Vienna CEST
END:DAYLIGHT
END:VTIMEZONE
BEGIN:VEVENT
UID:e823d3c7bf9a616f952ee39923cb3b70
CATEGORIES:Termine
CREATED:20140303T123239
SUMMARY:Konzert der Prima la Musica Preisträger
LOCATION:Haus der Musik\, Grafenwörth
DESCRIPTION:Preisträgerkonzert unserer talentiertesten Schüler vom Wettbewerb "Prima la
  Musica" 2014.\nEs musizieren u.a.\nPaul Blüml - 1. Preis mit Entsendung zu
 m Bundeswettbewerb (Klavier),\ndas Amabi - Saxophontrio \n1. Preis mit Ents
 endung zum Bundeswettbewerb (Holzbläserkammermusik im Saxophontrio)\nbesteh
 end aus Alexandra Pichler, Bianca Repas und Marion Höld und\ndas "Trio Virt
 uoso" mit einem 1. Preis mit Entsendung zum Bundeswettbewerb (Holzbläserkam
 mermusik)\n\n\nIm Anschluss werden die Preise an unsere erfolgreichen Schül
 er durch LAbg. Bgm. Alfred Riedl überreicht! \nFür das leibliche Wohl ist g
 esorgt!\n \n
X-ALT-DESC;FMTTYPE=text/html:<p><span style="font-size: 10pt;">Preisträgerkonzert unserer talentierteste
 n Schüler vom Wettbewerb "Prima la Musica" 2014.</span></p><p><span style="
 font-size: 10pt; line-height: 1.3em;">Es musizieren u.a.</span></p><p><span
  style="font-size: 10pt;">Paul Blüml - 1. Preis mit Entsendung zum Bundeswe
 ttbewerb (Klavier),</span></p><p><span style="font-size: 10pt;">das Amabi -
  Saxophontrio </span></p><p><span style="font-size: 10pt;">1. Preis mit Ent
 sendung zum Bundeswettbewerb (Holzbläserkammermusik im Saxophontrio)</span>
 </p><p><span style="font-size: 10pt; line-height: 1.3em;">bestehend aus Ale
 xandra Pichler, Bianca Repas und Marion Höld und</span></p><p><span style="
 font-size: 10pt;">das "Trio Virtuoso" mit einem 1. Preis mit Entsendung zum
  Bundeswettbewerb (Holzbläserkammermusik)<br /><br /></span></p><p><span st
 yle="font-size: 13px; line-height: 1.3em;">Im Anschluss werden die Preise a
 n unsere erfolgreichen Schüler durch LAbg. Bgm. Alfred Riedl überreicht!</s
 pan><span style="font-size: 10pt;"> </span></p><p><span style="font-size: 1
 0pt;">Für das leibliche Wohl ist gesorgt!</span></p><p><span style="font-si
 ze: 10pt;"> </span></p>
DTSTAMP:20260425T005343
DTSTART;TZID=Europe/Vienna:20140329T190000
SEQUENCE:0
TRANSP:OPAQUE
END:VEVENT
END:VCALENDAR