BEGIN:VCALENDAR
VERSION:2.0
PRODID:-//jEvents 2.0 for Joomla//EN
CALSCALE:GREGORIAN
METHOD:PUBLISH
BEGIN:VTIMEZONE
TZID:Europe/Vienna
BEGIN:STANDARD
DTSTART:20181028T020000
RDATE:20190331T030000
TZOFFSETFROM:+0200
TZOFFSETTO:+0100
TZNAME:Europe/Vienna CET
END:STANDARD
BEGIN:STANDARD
DTSTART:20191027T020000
RDATE:20200329T030000
TZOFFSETFROM:+0200
TZOFFSETTO:+0100
TZNAME:Europe/Vienna CET
END:STANDARD
BEGIN:STANDARD
DTSTART:20201025T020000
RDATE:20210328T030000
TZOFFSETFROM:+0200
TZOFFSETTO:+0100
TZNAME:Europe/Vienna CET
END:STANDARD
BEGIN:DAYLIGHT
DTSTART:20180804T000000
RDATE:20181028T020000
TZOFFSETFROM:+0100
TZOFFSETTO:+0200
TZNAME:Europe/Vienna CEST
END:DAYLIGHT
BEGIN:DAYLIGHT
DTSTART:20190331T030000
RDATE:20191027T020000
TZOFFSETFROM:+0100
TZOFFSETTO:+0200
TZNAME:Europe/Vienna CEST
END:DAYLIGHT
BEGIN:DAYLIGHT
DTSTART:20200329T030000
RDATE:20201025T020000
TZOFFSETFROM:+0100
TZOFFSETTO:+0200
TZNAME:Europe/Vienna CEST
END:DAYLIGHT
END:VTIMEZONE
BEGIN:VEVENT
UID:4e0c1cf585f5b2b20b24c702ffb4ef91
CATEGORIES:Seminare, Workshops
CREATED:20180417T072647
SUMMARY:Sommerseminar des Niederösterreichischen Blasmusikverbandes für Saxophon
LOCATION:Schloss Zeillern\, Niederösterreich
DESCRIPTION:Sommerseminar für Saxophon, Klarinete und Querflöte<br />Vorbereitung auf d
 ie Leistungsabzeichen-Prüfungen des Niederösterreichischen Blasmusikverband
 es<br /><br />Einzelunterricht, Kammermusik<br />(Saxophon)Orchester
CONTACT:www.noebv.at
DTSTAMP:20260420T201618
DTSTART;TZID=Europe/Vienna;VALUE=DATE:20190805
DTEND;TZID=Europe/Vienna;VALUE=DATE:20190810
SEQUENCE:0
TRANSP:OPAQUE
END:VEVENT
END:VCALENDAR